BEGIN:VCALENDAR
VERSION:2.0
PRODID:-//Grad Circle - ECPv6.15.20//NONSGML v1.0//EN
CALSCALE:GREGORIAN
METHOD:PUBLISH
X-WR-CALNAME:Grad Circle
X-ORIGINAL-URL:https://circle.mindthegrad.com
X-WR-CALDESC:Events for Grad Circle
REFRESH-INTERVAL;VALUE=DURATION:PT1H
X-Robots-Tag:noindex
X-PUBLISHED-TTL:PT1H
BEGIN:VTIMEZONE
TZID:Europe/London
BEGIN:DAYLIGHT
TZOFFSETFROM:+0000
TZOFFSETTO:+0100
TZNAME:BST
DTSTART:20230326T010000
END:DAYLIGHT
BEGIN:STANDARD
TZOFFSETFROM:+0100
TZOFFSETTO:+0000
TZNAME:GMT
DTSTART:20231029T010000
END:STANDARD
BEGIN:DAYLIGHT
TZOFFSETFROM:+0000
TZOFFSETTO:+0100
TZNAME:BST
DTSTART:20240331T010000
END:DAYLIGHT
BEGIN:STANDARD
TZOFFSETFROM:+0100
TZOFFSETTO:+0000
TZNAME:GMT
DTSTART:20241027T010000
END:STANDARD
BEGIN:DAYLIGHT
TZOFFSETFROM:+0000
TZOFFSETTO:+0100
TZNAME:BST
DTSTART:20250330T010000
END:DAYLIGHT
BEGIN:STANDARD
TZOFFSETFROM:+0100
TZOFFSETTO:+0000
TZNAME:GMT
DTSTART:20251026T010000
END:STANDARD
END:VTIMEZONE
BEGIN:VTIMEZONE
TZID:UTC
BEGIN:STANDARD
TZOFFSETFROM:+0000
TZOFFSETTO:+0000
TZNAME:UTC
DTSTART:20230101T000000
END:STANDARD
END:VTIMEZONE
BEGIN:VEVENT
DTSTART;TZID=Europe/London:20240805T180000
DTEND;TZID=Europe/London:20240805T190000
DTSTAMP:20260423T180343
CREATED:20240715T183705Z
LAST-MODIFIED:20240715T183705Z
UID:3128-1722880800-1722884400@circle.mindthegrad.com
SUMMARY:CV\, Cover Letters and LinkedIn Reviews
DESCRIPTION:Hey\, GradCircle! ✈️ We invite you to an interactive group session where we will practice interview skills in a small group. Valeria will explain how… \n  \n  \n    Please upgrade to Premium Membership to view this content. \n\n\n  Login\n\n \nGo to your Account ==> Subscriptions ==> Change Plan to upgrade your membership. \n(the price will be prorated based on what you have already paid for Standard Membership).
URL:https://circle.mindthegrad.com/event/5aug/
LOCATION:Virtual\, Zoom
CATEGORIES:Public Webinar
ATTACH;FMTTYPE=image/jpeg:https://circle.mindthegrad.com/wp-content/uploads/2024/04/pexels-ketut-subiyanto-4350173-scaled.jpg
END:VEVENT
BEGIN:VEVENT
DTSTART;TZID=Europe/London:20240807T170000
DTEND;TZID=Europe/London:20240807T180000
DTSTAMP:20260423T180343
CREATED:20240728T112226Z
LAST-MODIFIED:20240728T112226Z
UID:3149-1723050000-1723053600@circle.mindthegrad.com
SUMMARY:UK Etiquette with Bianca\, Career Coach and Consultant
DESCRIPTION:Hey\, GradCircle! ✈️ We invite you to an interactive group session where we will practice interview skills in a small group. Valeria will explain how… \n  \n  \n    Please upgrade to Premium Membership to view this content. \n\n\n  Login\n\n \nGo to your Account ==> Subscriptions ==> Change Plan to upgrade your membership. \n(the price will be prorated based on what you have already paid for Standard Membership).
URL:https://circle.mindthegrad.com/event/7aug-2/
LOCATION:Virtual\, Zoom
CATEGORIES:Workshops
ATTACH;FMTTYPE=image/jpeg:https://circle.mindthegrad.com/wp-content/uploads/2024/01/pexels-ivan-samkov-5676744-scaled.jpg
END:VEVENT
BEGIN:VEVENT
DTSTART;TZID=Europe/London:20240807T180000
DTEND;TZID=Europe/London:20240807T190000
DTSTAMP:20260423T180343
CREATED:20240710T162304Z
LAST-MODIFIED:20240807T142357Z
UID:3084-1723053600-1723057200@circle.mindthegrad.com
SUMMARY:Career Chat - Q&A Call with Valeria
DESCRIPTION:Hey\, GradCircle! ✈️ We invite you to an interactive group session where we will practice interview skills in a small group. Valeria will explain how… \n  \n  \n    Please upgrade to Premium Membership to view this content. \n\n\n  Login\n\n \nGo to your Account ==> Subscriptions ==> Change Plan to upgrade your membership. \n(the price will be prorated based on what you have already paid for Standard Membership).
URL:https://circle.mindthegrad.com/event/7aug/
LOCATION:Virtual\, Zoom
CATEGORIES:Weekly Q&A
ATTACH;FMTTYPE=image/png:https://circle.mindthegrad.com/wp-content/uploads/2024/07/Copy-of-6-keys-to-success-2.png
END:VEVENT
BEGIN:VEVENT
DTSTART;TZID=Europe/London:20240808T130000
DTEND;TZID=Europe/London:20240808T140000
DTSTAMP:20260423T180343
CREATED:20240715T184017Z
LAST-MODIFIED:20240715T184344Z
UID:3130-1723122000-1723125600@circle.mindthegrad.com
SUMMARY:Interview Skills & Practice Session
DESCRIPTION:Hey\, GradCircle! ✈️ We invite you to an interactive group session where we will practice interview skills in a small group. Valeria will explain how… \n  \n  \n    Please upgrade to Premium Membership to view this content. \n\n\n  Login\n\n \nGo to your Account ==> Subscriptions ==> Change Plan to upgrade your membership. \n(the price will be prorated based on what you have already paid for Standard Membership).
URL:https://circle.mindthegrad.com/event/8aug/
LOCATION:Virtual\, Zoom
CATEGORIES:Public Webinar
ATTACH;FMTTYPE=image/jpeg:https://circle.mindthegrad.com/wp-content/uploads/2024/04/pexels-anna-shvets-5324958-scaled.jpg
END:VEVENT
BEGIN:VEVENT
DTSTART;TZID=Europe/London:20240812T170000
DTEND;TZID=Europe/London:20240812T180000
DTSTAMP:20260423T180343
CREATED:20240808T120414Z
LAST-MODIFIED:20240808T174043Z
UID:3188-1723482000-1723485600@circle.mindthegrad.com
SUMMARY:CV\, Cover Letters and LinkedIn Reviews
DESCRIPTION:Hey\, GradCircle! ✈️ We invite you to an interactive group session where we will practice interview skills in a small group. Valeria will explain how… \n  \n  \n    Please upgrade to Premium Membership to view this content. \n\n\n  Login\n\n \nGo to your Account ==> Subscriptions ==> Change Plan to upgrade your membership. \n(the price will be prorated based on what you have already paid for Standard Membership).
URL:https://circle.mindthegrad.com/event/12aug/
LOCATION:Virtual\, Zoom
CATEGORIES:Workshops
ATTACH;FMTTYPE=image/png:https://circle.mindthegrad.com/wp-content/uploads/2024/08/Copy-of-6-keys-to-success.png
END:VEVENT
BEGIN:VEVENT
DTSTART;TZID=Europe/London:20240813T140000
DTEND;TZID=Europe/London:20240813T150000
DTSTAMP:20260423T180343
CREATED:20240808T115511Z
LAST-MODIFIED:20240808T173824Z
UID:3179-1723557600-1723561200@circle.mindthegrad.com
SUMMARY:Interview Skills & Practice Session
DESCRIPTION:Hey\, GradCircle! ✈️ We invite you to an interactive group session where we will practice interview skills in a small group. Valeria will explain how… \n  \n  \n    Please upgrade to Premium Membership to view this content. \n\n\n  Login\n\n \nGo to your Account ==> Subscriptions ==> Change Plan to upgrade your membership. \n(the price will be prorated based on what you have already paid for Standard Membership).
URL:https://circle.mindthegrad.com/event/13aug/
LOCATION:Virtual\, Zoom
CATEGORIES:Workshops
ATTACH;FMTTYPE=image/png:https://circle.mindthegrad.com/wp-content/uploads/2024/08/interview.png
END:VEVENT
BEGIN:VEVENT
DTSTART;TZID=Europe/London:20240814T180000
DTEND;TZID=Europe/London:20240814T190000
DTSTAMP:20260423T180343
CREATED:20240710T162425Z
LAST-MODIFIED:20240807T142443Z
UID:3086-1723658400-1723662000@circle.mindthegrad.com
SUMMARY:Career Chat - Q&A Call with Valeria
DESCRIPTION:Hey\, GradCircle! ✈️ We invite you to an interactive group session where we will practice interview skills in a small group. Valeria will explain how… \n  \n  \n    Please upgrade to Premium Membership to view this content. \n\n\n  Login\n\n \nGo to your Account ==> Subscriptions ==> Change Plan to upgrade your membership. \n(the price will be prorated based on what you have already paid for Standard Membership).
URL:https://circle.mindthegrad.com/event/14aug/
LOCATION:Virtual\, Zoom
CATEGORIES:Weekly Q&A
ATTACH;FMTTYPE=image/png:https://circle.mindthegrad.com/wp-content/uploads/2024/07/Copy-of-6-keys-to-success-2.png
END:VEVENT
BEGIN:VEVENT
DTSTART;TZID=Europe/London:20240819T170000
DTEND;TZID=Europe/London:20240819T180000
DTSTAMP:20260423T180343
CREATED:20240808T120633Z
LAST-MODIFIED:20240808T173954Z
UID:3190-1724086800-1724090400@circle.mindthegrad.com
SUMMARY:CV\, Cover Letters and LinkedIn Reviews
DESCRIPTION:Hey\, GradCircle! ✈️ We invite you to an interactive group session where we will practice interview skills in a small group. Valeria will explain how… \n  \n  \n    Please upgrade to Premium Membership to view this content. \n\n\n  Login\n\n \nGo to your Account ==> Subscriptions ==> Change Plan to upgrade your membership. \n(the price will be prorated based on what you have already paid for Standard Membership).
URL:https://circle.mindthegrad.com/event/19aug/
CATEGORIES:Workshops
ATTACH;FMTTYPE=image/png:https://circle.mindthegrad.com/wp-content/uploads/2024/08/Copy-of-6-keys-to-success.png
END:VEVENT
BEGIN:VEVENT
DTSTART;TZID=Europe/London:20240820T140000
DTEND;TZID=Europe/London:20240820T150000
DTSTAMP:20260423T180343
CREATED:20240808T115709Z
LAST-MODIFIED:20240808T173758Z
UID:3182-1724162400-1724166000@circle.mindthegrad.com
SUMMARY:Interview Skills & Practice Session
DESCRIPTION:Hey\, GradCircle! ✈️ We invite you to an interactive group session where we will practice interview skills in a small group. Valeria will explain how… \n  \n  \n    Please upgrade to Premium Membership to view this content. \n\n\n  Login\n\n \nGo to your Account ==> Subscriptions ==> Change Plan to upgrade your membership. \n(the price will be prorated based on what you have already paid for Standard Membership).
URL:https://circle.mindthegrad.com/event/20aug/
LOCATION:Virtual\, Zoom
CATEGORIES:Workshops
ATTACH;FMTTYPE=image/png:https://circle.mindthegrad.com/wp-content/uploads/2024/08/interview.png
END:VEVENT
BEGIN:VEVENT
DTSTART;TZID=UTC:20240821T180000
DTEND;TZID=UTC:20240821T190000
DTSTAMP:20260423T180343
CREATED:20240813T110616Z
LAST-MODIFIED:20240813T111014Z
UID:3205-1724263200-1724266800@circle.mindthegrad.com
SUMMARY:Free Training: Get Hired in the UK as an International Student
DESCRIPTION:Hey\, GradCircle! ✈️ We invite you to an interactive group session where we will practice interview skills in a small group. Valeria will explain how… \n  \n  \n    Please upgrade to Premium Membership to view this content. \n\n\n  Login\n\n \nGo to your Account ==> Subscriptions ==> Change Plan to upgrade your membership. \n(the price will be prorated based on what you have already paid for Standard Membership).
URL:https://circle.mindthegrad.com/event/grad-webinar/
CATEGORIES:Public Webinar
ATTACH;FMTTYPE=image/png:https://circle.mindthegrad.com/wp-content/uploads/2024/08/6-keys-to-success.png
END:VEVENT
BEGIN:VEVENT
DTSTART;TZID=Europe/London:20240826T170000
DTEND;TZID=Europe/London:20240826T180000
DTSTAMP:20260423T180343
CREATED:20240808T120803Z
LAST-MODIFIED:20240808T173927Z
UID:3192-1724691600-1724695200@circle.mindthegrad.com
SUMMARY:CV\, Cover Letters and LinkedIn Reviews
DESCRIPTION:Hey\, GradCircle! ✈️ We invite you to an interactive group session where we will practice interview skills in a small group. Valeria will explain how… \n  \n  \n    Please upgrade to Premium Membership to view this content. \n\n\n  Login\n\n \nGo to your Account ==> Subscriptions ==> Change Plan to upgrade your membership. \n(the price will be prorated based on what you have already paid for Standard Membership).
URL:https://circle.mindthegrad.com/event/26aug/
LOCATION:Virtual\, Zoom
CATEGORIES:Workshops
ATTACH;FMTTYPE=image/png:https://circle.mindthegrad.com/wp-content/uploads/2024/08/Copy-of-6-keys-to-success.png
END:VEVENT
BEGIN:VEVENT
DTSTART;TZID=Europe/London:20240827T140000
DTEND;TZID=Europe/London:20240827T150000
DTSTAMP:20260423T180343
CREATED:20240808T115839Z
LAST-MODIFIED:20240808T173720Z
UID:3184-1724767200-1724770800@circle.mindthegrad.com
SUMMARY:Interview Skills & Practice Session
DESCRIPTION:Hey\, GradCircle! ✈️ We invite you to an interactive group session where we will practice interview skills in a small group. Valeria will explain how… \n  \n  \n    Please upgrade to Premium Membership to view this content. \n\n\n  Login\n\n \nGo to your Account ==> Subscriptions ==> Change Plan to upgrade your membership. \n(the price will be prorated based on what you have already paid for Standard Membership).
URL:https://circle.mindthegrad.com/event/27aug/
LOCATION:Virtual\, Zoom
CATEGORIES:Workshops
ATTACH;FMTTYPE=image/png:https://circle.mindthegrad.com/wp-content/uploads/2024/08/interview.png
END:VEVENT
BEGIN:VEVENT
DTSTART;TZID=Europe/London:20240828T180000
DTEND;TZID=Europe/London:20240828T190000
DTSTAMP:20260423T180343
CREATED:20240710T162741Z
LAST-MODIFIED:20240807T142544Z
UID:3090-1724868000-1724871600@circle.mindthegrad.com
SUMMARY:Career Chat - Q&A Call with Valeria
DESCRIPTION:Hey\, GradCircle! ✈️ We invite you to an interactive group session where we will practice interview skills in a small group. Valeria will explain how… \n  \n  \n    Please upgrade to Premium Membership to view this content. \n\n\n  Login\n\n \nGo to your Account ==> Subscriptions ==> Change Plan to upgrade your membership. \n(the price will be prorated based on what you have already paid for Standard Membership).
URL:https://circle.mindthegrad.com/event/28aug/
LOCATION:Virtual\, Zoom
CATEGORIES:Weekly Q&A
ATTACH;FMTTYPE=image/png:https://circle.mindthegrad.com/wp-content/uploads/2024/07/Copy-of-6-keys-to-success-2.png
END:VEVENT
END:VCALENDAR