BEGIN:VCALENDAR
VERSION:2.0
PRODID:-//Grad Circle - ECPv6.15.20//NONSGML v1.0//EN
CALSCALE:GREGORIAN
METHOD:PUBLISH
X-ORIGINAL-URL:https://circle.mindthegrad.com
X-WR-CALDESC:Events for Grad Circle
REFRESH-INTERVAL;VALUE=DURATION:PT1H
X-Robots-Tag:noindex
X-PUBLISHED-TTL:PT1H
BEGIN:VTIMEZONE
TZID:UTC
BEGIN:STANDARD
TZOFFSETFROM:+0000
TZOFFSETTO:+0000
TZNAME:UTC
DTSTART:20230101T000000
END:STANDARD
END:VTIMEZONE
BEGIN:VEVENT
DTSTART;TZID=UTC:20240403T180000
DTEND;TZID=UTC:20240403T190000
DTSTAMP:20260424T013904
CREATED:20240319T194354Z
LAST-MODIFIED:20240319T194922Z
UID:2603-1712167200-1712170800@circle.mindthegrad.com
SUMMARY:Weekly Q&A - Career Chat with Valeria
DESCRIPTION:Hey\, GradCircle! ✈️ We invite you to an interactive group session where we will practice interview skills in a small group. Valeria will explain how… \n  \n  \n    Please upgrade to Premium Membership to view this content. \n\n\n  Login\n\n \nGo to your Account ==> Subscriptions ==> Change Plan to upgrade your membership. \n(the price will be prorated based on what you have already paid for Standard Membership).
URL:https://circle.mindthegrad.com/event/3april/
LOCATION:Virtual\, Zoom
CATEGORIES:Weekly Q&A
ATTACH;FMTTYPE=image/jpeg:https://circle.mindthegrad.com/wp-content/uploads/2024/01/BAV_9761.jpg
END:VEVENT
BEGIN:VEVENT
DTSTART;TZID=UTC:20240404T180000
DTEND;TZID=UTC:20240404T190000
DTSTAMP:20260424T013904
CREATED:20240330T105001Z
LAST-MODIFIED:20240330T105001Z
UID:2663-1712253600-1712257200@circle.mindthegrad.com
SUMMARY:Summary of recent UK immigration updates and job market
DESCRIPTION:Hey\, GradCircle! ✈️ We invite you to an interactive group session where we will practice interview skills in a small group. Valeria will explain how… \n  \n  \n    Please upgrade to Premium Membership to view this content. \n\n\n  Login\n\n \nGo to your Account ==> Subscriptions ==> Change Plan to upgrade your membership. \n(the price will be prorated based on what you have already paid for Standard Membership).
URL:https://circle.mindthegrad.com/event/4april/
LOCATION:Virtual\, Zoom
ATTACH;FMTTYPE=image/jpeg:https://circle.mindthegrad.com/wp-content/uploads/2024/03/BAV_9933.jpg
END:VEVENT
BEGIN:VEVENT
DTSTART;TZID=UTC:20240410T180000
DTEND;TZID=UTC:20240410T190000
DTSTAMP:20260424T013904
CREATED:20240319T194459Z
LAST-MODIFIED:20240319T194858Z
UID:2606-1712772000-1712775600@circle.mindthegrad.com
SUMMARY:Weekly Q&A - Career Chat with Valeria
DESCRIPTION:Hey\, GradCircle! ✈️ We invite you to an interactive group session where we will practice interview skills in a small group. Valeria will explain how… \n  \n  \n    Please upgrade to Premium Membership to view this content. \n\n\n  Login\n\n \nGo to your Account ==> Subscriptions ==> Change Plan to upgrade your membership. \n(the price will be prorated based on what you have already paid for Standard Membership).
URL:https://circle.mindthegrad.com/event/10april/
LOCATION:Virtual\, Zoom
CATEGORIES:Weekly Q&A
ATTACH;FMTTYPE=image/jpeg:https://circle.mindthegrad.com/wp-content/uploads/2024/01/BAV_0235-scaled.jpg
END:VEVENT
BEGIN:VEVENT
DTSTART;TZID=UTC:20240416T180000
DTEND;TZID=UTC:20240416T190000
DTSTAMP:20260424T013904
CREATED:20240330T111010Z
LAST-MODIFIED:20240331T121937Z
UID:2670-1713290400-1713294000@circle.mindthegrad.com
SUMMARY:Networking in the UK - Online & Offline
DESCRIPTION:Hey\, GradCircle! ✈️ We invite you to an interactive group session where we will practice interview skills in a small group. Valeria will explain how… \n  \n  \n    Please upgrade to Premium Membership to view this content. \n\n\n  Login\n\n \nGo to your Account ==> Subscriptions ==> Change Plan to upgrade your membership. \n(the price will be prorated based on what you have already paid for Standard Membership).
URL:https://circle.mindthegrad.com/event/9april/
LOCATION:Virtual\, Zoom
ATTACH;FMTTYPE=image/jpeg:https://circle.mindthegrad.com/wp-content/uploads/2024/03/BAV_9722-scaled.jpg
END:VEVENT
BEGIN:VEVENT
DTSTART;TZID=UTC:20240417T180000
DTEND;TZID=UTC:20240417T190000
DTSTAMP:20260424T013904
CREATED:20240319T194618Z
LAST-MODIFIED:20240319T194635Z
UID:2609-1713376800-1713380400@circle.mindthegrad.com
SUMMARY:Weekly Q&A - Career Chat with Valeria
DESCRIPTION:Hey\, GradCircle! ✈️ We invite you to an interactive group session where we will practice interview skills in a small group. Valeria will explain how… \n  \n  \n    Please upgrade to Premium Membership to view this content. \n\n\n  Login\n\n \nGo to your Account ==> Subscriptions ==> Change Plan to upgrade your membership. \n(the price will be prorated based on what you have already paid for Standard Membership).
URL:https://circle.mindthegrad.com/event/17april/
LOCATION:Virtual\, Zoom
CATEGORIES:Weekly Q&A
ATTACH;FMTTYPE=image/jpeg:https://circle.mindthegrad.com/wp-content/uploads/2024/01/BAV_9761.jpg
END:VEVENT
BEGIN:VEVENT
DTSTART;TZID=UTC:20240418T180000
DTEND;TZID=UTC:20240418T190000
DTSTAMP:20260424T013904
CREATED:20240413T103023Z
LAST-MODIFIED:20240413T103249Z
UID:2696-1713463200-1713466800@circle.mindthegrad.com
SUMMARY:Pass interviews in the UK (as an international student!)
DESCRIPTION:Hey\, GradCircle! ✈️ We invite you to an interactive group session where we will practice interview skills in a small group. Valeria will explain how… \n  \n  \n    Please upgrade to Premium Membership to view this content. \n\n\n  Login\n\n \nGo to your Account ==> Subscriptions ==> Change Plan to upgrade your membership. \n(the price will be prorated based on what you have already paid for Standard Membership).
URL:https://circle.mindthegrad.com/event/interview-webinar/
CATEGORIES:Public Webinar
ATTACH;FMTTYPE=image/png:https://circle.mindthegrad.com/wp-content/uploads/2024/04/13.png
END:VEVENT
BEGIN:VEVENT
DTSTART;TZID=UTC:20240424T180000
DTEND;TZID=UTC:20240424T190000
DTSTAMP:20260424T013904
CREATED:20240319T194837Z
LAST-MODIFIED:20240319T194837Z
UID:2612-1713981600-1713985200@circle.mindthegrad.com
SUMMARY:Weekly Q&A - Career Chat with Valeria
DESCRIPTION:Hey\, GradCircle! ✈️ We invite you to an interactive group session where we will practice interview skills in a small group. Valeria will explain how… \n  \n  \n    Please upgrade to Premium Membership to view this content. \n\n\n  Login\n\n \nGo to your Account ==> Subscriptions ==> Change Plan to upgrade your membership. \n(the price will be prorated based on what you have already paid for Standard Membership).
URL:https://circle.mindthegrad.com/event/24april/
LOCATION:Virtual\, Zoom
CATEGORIES:Weekly Q&A
ATTACH;FMTTYPE=image/jpeg:https://circle.mindthegrad.com/wp-content/uploads/2024/01/BAV_0235-scaled.jpg
END:VEVENT
END:VCALENDAR