BEGIN:VCALENDAR
VERSION:2.0
PRODID:-//Grad Circle - ECPv6.15.20//NONSGML v1.0//EN
CALSCALE:GREGORIAN
METHOD:PUBLISH
X-WR-CALNAME:Grad Circle
X-ORIGINAL-URL:https://circle.mindthegrad.com
X-WR-CALDESC:Events for Grad Circle
REFRESH-INTERVAL;VALUE=DURATION:PT1H
X-Robots-Tag:noindex
X-PUBLISHED-TTL:PT1H
BEGIN:VTIMEZONE
TZID:Europe/London
BEGIN:DAYLIGHT
TZOFFSETFROM:+0000
TZOFFSETTO:+0100
TZNAME:BST
DTSTART:20230326T010000
END:DAYLIGHT
BEGIN:STANDARD
TZOFFSETFROM:+0100
TZOFFSETTO:+0000
TZNAME:GMT
DTSTART:20231029T010000
END:STANDARD
BEGIN:DAYLIGHT
TZOFFSETFROM:+0000
TZOFFSETTO:+0100
TZNAME:BST
DTSTART:20240331T010000
END:DAYLIGHT
BEGIN:STANDARD
TZOFFSETFROM:+0100
TZOFFSETTO:+0000
TZNAME:GMT
DTSTART:20241027T010000
END:STANDARD
BEGIN:DAYLIGHT
TZOFFSETFROM:+0000
TZOFFSETTO:+0100
TZNAME:BST
DTSTART:20250330T010000
END:DAYLIGHT
BEGIN:STANDARD
TZOFFSETFROM:+0100
TZOFFSETTO:+0000
TZNAME:GMT
DTSTART:20251026T010000
END:STANDARD
END:VTIMEZONE
BEGIN:VEVENT
DTSTART;TZID=Europe/London:20240320T180000
DTEND;TZID=Europe/London:20240320T190000
DTSTAMP:20260424T084529
CREATED:20240210T164322Z
LAST-MODIFIED:20240210T164322Z
UID:2324-1710957600-1710961200@circle.mindthegrad.com
SUMMARY:Weekly Q&A - Career Chat with Valeria
DESCRIPTION:We will not have sessions during these days to reset for the new intense timetable! Thank you\, Valeria \n  \n  \n    Please upgrade to Premium Membership to view this content. \n\n\n  Login\n\n \nGo to your Account ==> Subscriptions ==> Change Plan to upgrade your membership. \n(the price will be prorated based on what you have already paid for Standard Membership).
URL:https://circle.mindthegrad.com/event/20march/
LOCATION:Virtual\, Zoom
CATEGORIES:Weekly Q&A
ATTACH;FMTTYPE=image/jpeg:https://circle.mindthegrad.com/wp-content/uploads/2024/01/BAV_9761.jpg
END:VEVENT
BEGIN:VEVENT
DTSTART;TZID=Europe/London:20240319T180000
DTEND;TZID=Europe/London:20240319T190000
DTSTAMP:20260424T084529
CREATED:20240222T215105Z
LAST-MODIFIED:20240222T215105Z
UID:2416-1710871200-1710874800@circle.mindthegrad.com
SUMMARY:UK Employability Bootcamp - Lecture 6 - Interview Skills and Visa+Salary Negotiations
DESCRIPTION:We will not have sessions during these days to reset for the new intense timetable! Thank you\, Valeria \n  \n  \n    Please upgrade to Premium Membership to view this content. \n\n\n  Login\n\n \nGo to your Account ==> Subscriptions ==> Change Plan to upgrade your membership. \n(the price will be prorated based on what you have already paid for Standard Membership).
URL:https://circle.mindthegrad.com/event/uk-employability-bootcamp-lecture-6-interview-skills-and-visasalary-negotiations/
LOCATION:Virtual\, Zoom
CATEGORIES:UK Employability Bootcamp
ATTACH;FMTTYPE=image/jpeg:https://circle.mindthegrad.com/wp-content/uploads/2024/02/BAV_9739-1-scaled.jpg
END:VEVENT
BEGIN:VEVENT
DTSTART;TZID=Europe/London:20240313T180000
DTEND;TZID=Europe/London:20240313T190000
DTSTAMP:20260424T084529
CREATED:20240210T164134Z
LAST-MODIFIED:20240210T164134Z
UID:2322-1710352800-1710356400@circle.mindthegrad.com
SUMMARY:Weekly Q&A - Career Chat with Valeria
DESCRIPTION:We will not have sessions during these days to reset for the new intense timetable! Thank you\, Valeria \n  \n  \n    Please upgrade to Premium Membership to view this content. \n\n\n  Login\n\n \nGo to your Account ==> Subscriptions ==> Change Plan to upgrade your membership. \n(the price will be prorated based on what you have already paid for Standard Membership).
URL:https://circle.mindthegrad.com/event/13march/
LOCATION:Virtual\, Zoom
CATEGORIES:Weekly Q&A
ATTACH;FMTTYPE=image/jpeg:https://circle.mindthegrad.com/wp-content/uploads/2024/01/BAV_0235-scaled.jpg
END:VEVENT
BEGIN:VEVENT
DTSTART;TZID=Europe/London:20240312T180000
DTEND;TZID=Europe/London:20240312T190000
DTSTAMP:20260424T084529
CREATED:20240222T214710Z
LAST-MODIFIED:20240222T214710Z
UID:2412-1710266400-1710270000@circle.mindthegrad.com
SUMMARY:UK Employability Bootcamp - Lecture 4 - LinkedIn & Networking
DESCRIPTION:We will not have sessions during these days to reset for the new intense timetable! Thank you\, Valeria \n  \n  \n    Please upgrade to Premium Membership to view this content. \n\n\n  Login\n\n \nGo to your Account ==> Subscriptions ==> Change Plan to upgrade your membership. \n(the price will be prorated based on what you have already paid for Standard Membership).
URL:https://circle.mindthegrad.com/event/uk-employability-bootcamp-lecture-4-linkedin-networking/
LOCATION:Virtual\, Zoom
CATEGORIES:UK Employability Bootcamp
ATTACH;FMTTYPE=image/jpeg:https://circle.mindthegrad.com/wp-content/uploads/2024/02/BAV_9739-1-scaled.jpg
END:VEVENT
BEGIN:VEVENT
DTSTART;TZID=Europe/London:20240311T180000
DTEND;TZID=Europe/London:20240311T190000
DTSTAMP:20260424T084529
CREATED:20240222T214457Z
LAST-MODIFIED:20240222T214457Z
UID:2410-1710180000-1710183600@circle.mindthegrad.com
SUMMARY:UK Employability Bootcamp - Lecture 3 - Researching and Applying for Roles that Sponsor Visas
DESCRIPTION:We will not have sessions during these days to reset for the new intense timetable! Thank you\, Valeria \n  \n  \n    Please upgrade to Premium Membership to view this content. \n\n\n  Login\n\n \nGo to your Account ==> Subscriptions ==> Change Plan to upgrade your membership. \n(the price will be prorated based on what you have already paid for Standard Membership).
URL:https://circle.mindthegrad.com/event/uk-employability-bootcamp-lecture-3-researching-and-applying-for-roles-that-sponsor-visas/
LOCATION:Virtual\, Zoom
CATEGORIES:UK Employability Bootcamp
ATTACH;FMTTYPE=image/jpeg:https://circle.mindthegrad.com/wp-content/uploads/2024/02/BAV_9739-1-scaled.jpg
END:VEVENT
BEGIN:VEVENT
DTSTART;TZID=Europe/London:20240306T180000
DTEND;TZID=Europe/London:20240306T190000
DTSTAMP:20260424T084529
CREATED:20240210T163951Z
LAST-MODIFIED:20240210T163951Z
UID:2320-1709748000-1709751600@circle.mindthegrad.com
SUMMARY:Weekly Q&A - Career Chat with Valeria
DESCRIPTION:We will not have sessions during these days to reset for the new intense timetable! Thank you\, Valeria \n  \n  \n    Please upgrade to Premium Membership to view this content. \n\n\n  Login\n\n \nGo to your Account ==> Subscriptions ==> Change Plan to upgrade your membership. \n(the price will be prorated based on what you have already paid for Standard Membership).
URL:https://circle.mindthegrad.com/event/6march/
LOCATION:Virtual\, Zoom
CATEGORIES:Weekly Q&A
ATTACH;FMTTYPE=image/jpeg:https://circle.mindthegrad.com/wp-content/uploads/2024/01/BAV_9761.jpg
END:VEVENT
BEGIN:VEVENT
DTSTART;TZID=Europe/London:20240305T180000
DTEND;TZID=Europe/London:20240305T190000
DTSTAMP:20260424T084529
CREATED:20240222T214219Z
LAST-MODIFIED:20240222T214219Z
UID:2408-1709661600-1709665200@circle.mindthegrad.com
SUMMARY:UK Employability Bootcamp – Lecture 2 – Creating a Strong Candidate Profile
DESCRIPTION:We will not have sessions during these days to reset for the new intense timetable! Thank you\, Valeria \n  \n  \n    Please upgrade to Premium Membership to view this content. \n\n\n  Login\n\n \nGo to your Account ==> Subscriptions ==> Change Plan to upgrade your membership. \n(the price will be prorated based on what you have already paid for Standard Membership).
URL:https://circle.mindthegrad.com/event/uk-employability-bootcamp-lecture-2-creating-a-strong-candidate-profile/
LOCATION:Virtual\, Zoom
CATEGORIES:UK Employability Bootcamp
ATTACH;FMTTYPE=image/jpeg:https://circle.mindthegrad.com/wp-content/uploads/2024/02/BAV_9739-1-scaled.jpg
END:VEVENT
BEGIN:VEVENT
DTSTART;TZID=Europe/London:20240304T180000
DTEND;TZID=Europe/London:20240304T190000
DTSTAMP:20260424T084529
CREATED:20240222T213543Z
LAST-MODIFIED:20240222T214143Z
UID:2399-1709575200-1709578800@circle.mindthegrad.com
SUMMARY:UK Employability Bootcamp - Lecture 1 - UK Job Search Strategy
DESCRIPTION:We will not have sessions during these days to reset for the new intense timetable! Thank you\, Valeria \n  \n  \n    Please upgrade to Premium Membership to view this content. \n\n\n  Login\n\n \nGo to your Account ==> Subscriptions ==> Change Plan to upgrade your membership. \n(the price will be prorated based on what you have already paid for Standard Membership).
URL:https://circle.mindthegrad.com/event/uk-employability-bootcamp-lecture-1-uk-job-search-strategy/
LOCATION:Virtual\, Zoom
CATEGORIES:UK Employability Bootcamp
ATTACH;FMTTYPE=image/jpeg:https://circle.mindthegrad.com/wp-content/uploads/2024/02/BAV_9739-1-scaled.jpg
END:VEVENT
BEGIN:VEVENT
DTSTART;TZID=Europe/London:20240228T180000
DTEND;TZID=Europe/London:20240228T190000
DTSTAMP:20260424T084529
CREATED:20240116T213139Z
LAST-MODIFIED:20240121T152932Z
UID:1489-1709143200-1709146800@circle.mindthegrad.com
SUMMARY:Weekly Q&A - Career Chat with Valeria
DESCRIPTION:We will not have sessions during these days to reset for the new intense timetable! Thank you\, Valeria \n  \n  \n    Please upgrade to Premium Membership to view this content. \n\n\n  Login\n\n \nGo to your Account ==> Subscriptions ==> Change Plan to upgrade your membership. \n(the price will be prorated based on what you have already paid for Standard Membership).
URL:https://circle.mindthegrad.com/event/28feb/
LOCATION:Virtual\, Zoom
CATEGORIES:Weekly Q&A
ATTACH;FMTTYPE=image/jpeg:https://circle.mindthegrad.com/wp-content/uploads/2024/01/BAV_0235-scaled.jpg
END:VEVENT
BEGIN:VEVENT
DTSTART;TZID=Europe/London:20240221T180000
DTEND;TZID=Europe/London:20240221T190000
DTSTAMP:20260424T084529
CREATED:20240114T145041Z
LAST-MODIFIED:20240121T155129Z
UID:1225-1708538400-1708542000@circle.mindthegrad.com
SUMMARY:Weekly Q&A - Career Chat with Valeria
DESCRIPTION:We will not have sessions during these days to reset for the new intense timetable! Thank you\, Valeria \n  \n  \n    Please upgrade to Premium Membership to view this content. \n\n\n  Login\n\n \nGo to your Account ==> Subscriptions ==> Change Plan to upgrade your membership. \n(the price will be prorated based on what you have already paid for Standard Membership).
URL:https://circle.mindthegrad.com/event/21feb/
LOCATION:Virtual\, Zoom
CATEGORIES:Weekly Q&A
ATTACH;FMTTYPE=image/jpeg:https://circle.mindthegrad.com/wp-content/uploads/2024/01/BAV_9761.jpg
END:VEVENT
BEGIN:VEVENT
DTSTART;TZID=Europe/London:20240214T180000
DTEND;TZID=Europe/London:20240214T190000
DTSTAMP:20260424T084529
CREATED:20240114T144627Z
LAST-MODIFIED:20240121T155425Z
UID:1221-1707933600-1707937200@circle.mindthegrad.com
SUMMARY:Weekly Q&A - Career Chat with Valeria
DESCRIPTION:We will not have sessions during these days to reset for the new intense timetable! Thank you\, Valeria \n  \n  \n    Please upgrade to Premium Membership to view this content. \n\n\n  Login\n\n \nGo to your Account ==> Subscriptions ==> Change Plan to upgrade your membership. \n(the price will be prorated based on what you have already paid for Standard Membership).
URL:https://circle.mindthegrad.com/event/14feb/
LOCATION:Virtual\, Zoom
CATEGORIES:Weekly Q&A
ATTACH;FMTTYPE=image/jpeg:https://circle.mindthegrad.com/wp-content/uploads/2024/01/BAV_0235-scaled.jpg
END:VEVENT
BEGIN:VEVENT
DTSTART;TZID=Europe/London:20240213T180000
DTEND;TZID=Europe/London:20240213T190000
DTSTAMP:20260424T084529
CREATED:20240117T192908Z
LAST-MODIFIED:20240121T155653Z
UID:1564-1707847200-1707850800@circle.mindthegrad.com
SUMMARY:Stay Motivated and Consistent with your Job Search
DESCRIPTION:We will not have sessions during these days to reset for the new intense timetable! Thank you\, Valeria \n  \n  \n    Please upgrade to Premium Membership to view this content. \n\n\n  Login\n\n \nGo to your Account ==> Subscriptions ==> Change Plan to upgrade your membership. \n(the price will be prorated based on what you have already paid for Standard Membership).
URL:https://circle.mindthegrad.com/event/how-to-stay-motivated-and-consistent-when-looking-for-a-job-in-the-uk/
LOCATION:Virtual\, Zoom
CATEGORIES:Workshops
ATTACH;FMTTYPE=image/jpeg:https://circle.mindthegrad.com/wp-content/uploads/2024/01/pexels-zen-chung-5537962.jpg
END:VEVENT
BEGIN:VEVENT
DTSTART;TZID=Europe/London:20240208T180000
DTEND;TZID=Europe/London:20240208T190000
DTSTAMP:20260424T084529
CREATED:20240117T191921Z
LAST-MODIFIED:20240121T155522Z
UID:1553-1707415200-1707418800@circle.mindthegrad.com
SUMMARY:UK Job Market in 2024 - Information Session
DESCRIPTION:We will not have sessions during these days to reset for the new intense timetable! Thank you\, Valeria \n  \n  \n    Please upgrade to Premium Membership to view this content. \n\n\n  Login\n\n \nGo to your Account ==> Subscriptions ==> Change Plan to upgrade your membership. \n(the price will be prorated based on what you have already paid for Standard Membership).
URL:https://circle.mindthegrad.com/event/uk-job-market-in-2024-information-session/
LOCATION:Virtual\, Zoom
CATEGORIES:Workshops
ATTACH;FMTTYPE=image/jpeg:https://circle.mindthegrad.com/wp-content/uploads/2024/01/pexels-cottonbro-studio-5989934-scaled.jpg
END:VEVENT
BEGIN:VEVENT
DTSTART;TZID=Europe/London:20240207T180000
DTEND;TZID=Europe/London:20240207T190000
DTSTAMP:20260424T084529
CREATED:20240114T144330Z
LAST-MODIFIED:20240121T155840Z
UID:1219-1707328800-1707332400@circle.mindthegrad.com
SUMMARY:Weekly Q&A - Career Chat with Valeria
DESCRIPTION:We will not have sessions during these days to reset for the new intense timetable! Thank you\, Valeria \n  \n  \n    Please upgrade to Premium Membership to view this content. \n\n\n  Login\n\n \nGo to your Account ==> Subscriptions ==> Change Plan to upgrade your membership. \n(the price will be prorated based on what you have already paid for Standard Membership).
URL:https://circle.mindthegrad.com/event/7feb/
LOCATION:Virtual\, Zoom
CATEGORIES:Weekly Q&A
ATTACH;FMTTYPE=image/jpeg:https://circle.mindthegrad.com/wp-content/uploads/2024/01/BAV_9761.jpg
END:VEVENT
BEGIN:VEVENT
DTSTART;TZID=Europe/London:20240205T180000
DTEND;TZID=Europe/London:20240205T190000
DTSTAMP:20260424T084529
CREATED:20240117T190130Z
LAST-MODIFIED:20240127T180114Z
UID:1550-1707156000-1707159600@circle.mindthegrad.com
SUMMARY:Interview Preparation Workshop
DESCRIPTION:We will not have sessions during these days to reset for the new intense timetable! Thank you\, Valeria \n  \n  \n    Please upgrade to Premium Membership to view this content. \n\n\n  Login\n\n \nGo to your Account ==> Subscriptions ==> Change Plan to upgrade your membership. \n(the price will be prorated based on what you have already paid for Standard Membership).
URL:https://circle.mindthegrad.com/event/interview-workshop/
LOCATION:Virtual\, Zoom
CATEGORIES:Workshops
ATTACH;FMTTYPE=image/jpeg:https://circle.mindthegrad.com/wp-content/uploads/2024/01/pexels-resume-genius-18848929-1-scaled.jpg
END:VEVENT
BEGIN:VEVENT
DTSTART;TZID=Europe/London:20240131T180000
DTEND;TZID=Europe/London:20240131T190000
DTSTAMP:20260424T084529
CREATED:20240114T140846Z
LAST-MODIFIED:20240121T155809Z
UID:1216-1706724000-1706727600@circle.mindthegrad.com
SUMMARY:Weekly Q&A – Career Chat with Valeria
DESCRIPTION:We will not have sessions during these days to reset for the new intense timetable! Thank you\, Valeria \n  \n  \n    Please upgrade to Premium Membership to view this content. \n\n\n  Login\n\n \nGo to your Account ==> Subscriptions ==> Change Plan to upgrade your membership. \n(the price will be prorated based on what you have already paid for Standard Membership).
URL:https://circle.mindthegrad.com/event/31jan/
LOCATION:Virtual\, Zoom
CATEGORIES:Weekly Q&A
ATTACH;FMTTYPE=image/jpeg:https://circle.mindthegrad.com/wp-content/uploads/2024/01/BAV_0235-scaled.jpg
END:VEVENT
BEGIN:VEVENT
DTSTART;TZID=Europe/London:20240124T180000
DTEND;TZID=Europe/London:20240124T190000
DTSTAMP:20260424T084529
CREATED:20240113T151749Z
LAST-MODIFIED:20240121T155551Z
UID:1134-1706119200-1706122800@circle.mindthegrad.com
SUMMARY:Weekly Q&A - Career Chat with Valeria
DESCRIPTION:We will not have sessions during these days to reset for the new intense timetable! Thank you\, Valeria \n  \n  \n    Please upgrade to Premium Membership to view this content. \n\n\n  Login\n\n \nGo to your Account ==> Subscriptions ==> Change Plan to upgrade your membership. \n(the price will be prorated based on what you have already paid for Standard Membership).
URL:https://circle.mindthegrad.com/event/24jan/
LOCATION:Virtual\, Zoom
CATEGORIES:Weekly Q&A
ATTACH;FMTTYPE=image/jpeg:https://circle.mindthegrad.com/wp-content/uploads/2024/01/BAV_9761.jpg
END:VEVENT
END:VCALENDAR