BEGIN:VCALENDAR
VERSION:2.0
PRODID:-//Grad Circle - ECPv6.15.20//NONSGML v1.0//EN
CALSCALE:GREGORIAN
METHOD:PUBLISH
X-WR-CALNAME:Grad Circle
X-ORIGINAL-URL:https://circle.mindthegrad.com
X-WR-CALDESC:Events for Grad Circle
REFRESH-INTERVAL;VALUE=DURATION:PT1H
X-Robots-Tag:noindex
X-PUBLISHED-TTL:PT1H
BEGIN:VTIMEZONE
TZID:Europe/London
BEGIN:DAYLIGHT
TZOFFSETFROM:+0000
TZOFFSETTO:+0100
TZNAME:BST
DTSTART:20230326T010000
END:DAYLIGHT
BEGIN:STANDARD
TZOFFSETFROM:+0100
TZOFFSETTO:+0000
TZNAME:GMT
DTSTART:20231029T010000
END:STANDARD
BEGIN:DAYLIGHT
TZOFFSETFROM:+0000
TZOFFSETTO:+0100
TZNAME:BST
DTSTART:20240331T010000
END:DAYLIGHT
BEGIN:STANDARD
TZOFFSETFROM:+0100
TZOFFSETTO:+0000
TZNAME:GMT
DTSTART:20241027T010000
END:STANDARD
BEGIN:DAYLIGHT
TZOFFSETFROM:+0000
TZOFFSETTO:+0100
TZNAME:BST
DTSTART:20250330T010000
END:DAYLIGHT
BEGIN:STANDARD
TZOFFSETFROM:+0100
TZOFFSETTO:+0000
TZNAME:GMT
DTSTART:20251026T010000
END:STANDARD
END:VTIMEZONE
BEGIN:VTIMEZONE
TZID:UTC
BEGIN:STANDARD
TZOFFSETFROM:+0000
TZOFFSETTO:+0000
TZNAME:UTC
DTSTART:20230101T000000
END:STANDARD
END:VTIMEZONE
BEGIN:VEVENT
DTSTART;TZID=Europe/London:20241119T180000
DTEND;TZID=Europe/London:20241119T190000
DTSTAMP:20260423T225431
CREATED:20241110T121703Z
LAST-MODIFIED:20241118T111104Z
UID:3494-1732039200-1732042800@circle.mindthegrad.com
SUMMARY:Interview Skills Seminar
DESCRIPTION:Hey\, GradCircle! ✈️ We’re excited to announce that we’ve invited Bianca\, a Career Coach and Consultant at Praino Careers\, her own company\, and the Family Engagement Manager for… \n  \n  \n    Please upgrade to Premium Membership to view this content. \n\n\n  Login\n\n \nGo to your Account ==> Subscriptions ==> Change Plan to upgrade your membership. \n(the price will be prorated based on what you have already paid for Standard Membership).
URL:https://circle.mindthegrad.com/event/21nov/
LOCATION:Virtual\, Zoom
CATEGORIES:Workshops
ATTACH;FMTTYPE=image/png:https://circle.mindthegrad.com/wp-content/uploads/2024/08/interview.png
END:VEVENT
BEGIN:VEVENT
DTSTART;TZID=Europe/London:20241120T180000
DTEND;TZID=Europe/London:20241120T190000
DTSTAMP:20260423T225431
CREATED:20241102T101855Z
LAST-MODIFIED:20241102T101855Z
UID:3456-1732125600-1732129200@circle.mindthegrad.com
SUMMARY:Career Chat - Q&A Call with Valeria
DESCRIPTION:Hey\, GradCircle! ✈️ We’re excited to announce that we’ve invited Bianca\, a Career Coach and Consultant at Praino Careers\, her own company\, and the Family Engagement Manager for… \n  \n  \n    Please upgrade to Premium Membership to view this content. \n\n\n  Login\n\n \nGo to your Account ==> Subscriptions ==> Change Plan to upgrade your membership. \n(the price will be prorated based on what you have already paid for Standard Membership).
URL:https://circle.mindthegrad.com/event/20nov/
LOCATION:Virtual\, Zoom
CATEGORIES:Weekly Q&A
ATTACH;FMTTYPE=image/png:https://circle.mindthegrad.com/wp-content/uploads/2024/07/Copy-of-6-keys-to-success-2.png
END:VEVENT
BEGIN:VEVENT
DTSTART;TZID=Europe/London:20241125T170000
DTEND;TZID=Europe/London:20241125T180000
DTSTAMP:20260423T225431
CREATED:20241110T120545Z
LAST-MODIFIED:20241110T120545Z
UID:3482-1732554000-1732557600@circle.mindthegrad.com
SUMMARY:Job Strategy Seminar
DESCRIPTION:Hey\, GradCircle! ✈️ We’re excited to announce that we’ve invited Bianca\, a Career Coach and Consultant at Praino Careers\, her own company\, and the Family Engagement Manager for… \n  \n  \n    Please upgrade to Premium Membership to view this content. \n\n\n  Login\n\n \nGo to your Account ==> Subscriptions ==> Change Plan to upgrade your membership. \n(the price will be prorated based on what you have already paid for Standard Membership).
URL:https://circle.mindthegrad.com/event/25nov/
LOCATION:Virtual\, Zoom
CATEGORIES:Workshops
ATTACH;FMTTYPE=image/png:https://circle.mindthegrad.com/wp-content/uploads/2024/08/Copy-of-6-keys-to-success1fsg.png
END:VEVENT
BEGIN:VEVENT
DTSTART;TZID=Europe/London:20241127T180000
DTEND;TZID=Europe/London:20241127T190000
DTSTAMP:20260423T225431
CREATED:20241102T101845Z
LAST-MODIFIED:20241102T101845Z
UID:3455-1732730400-1732734000@circle.mindthegrad.com
SUMMARY:Career Chat - Q&A Call with Valeria
DESCRIPTION:Hey\, GradCircle! ✈️ We’re excited to announce that we’ve invited Bianca\, a Career Coach and Consultant at Praino Careers\, her own company\, and the Family Engagement Manager for… \n  \n  \n    Please upgrade to Premium Membership to view this content. \n\n\n  Login\n\n \nGo to your Account ==> Subscriptions ==> Change Plan to upgrade your membership. \n(the price will be prorated based on what you have already paid for Standard Membership).
URL:https://circle.mindthegrad.com/event/27nov/
LOCATION:Virtual\, Zoom
CATEGORIES:Weekly Q&A
ATTACH;FMTTYPE=image/png:https://circle.mindthegrad.com/wp-content/uploads/2024/07/Copy-of-6-keys-to-success-2.png
END:VEVENT
BEGIN:VEVENT
DTSTART;TZID=Europe/London:20241202T170000
DTEND;TZID=Europe/London:20241202T180000
DTSTAMP:20260423T225431
CREATED:20241110T120819Z
LAST-MODIFIED:20241110T120819Z
UID:3486-1733158800-1733162400@circle.mindthegrad.com
SUMMARY:Job Strategy Seminar
DESCRIPTION:Hey\, GradCircle! ✈️ We’re excited to announce that we’ve invited Bianca\, a Career Coach and Consultant at Praino Careers\, her own company\, and the Family Engagement Manager for… \n  \n  \n    Please upgrade to Premium Membership to view this content. \n\n\n  Login\n\n \nGo to your Account ==> Subscriptions ==> Change Plan to upgrade your membership. \n(the price will be prorated based on what you have already paid for Standard Membership).
URL:https://circle.mindthegrad.com/event/2dec/
LOCATION:Virtual\, Zoom
CATEGORIES:Workshops
ATTACH;FMTTYPE=image/png:https://circle.mindthegrad.com/wp-content/uploads/2024/08/Copy-of-6-keys-to-success1fsg.png
END:VEVENT
BEGIN:VEVENT
DTSTART;TZID=Europe/London:20241203T180000
DTEND;TZID=Europe/London:20241203T190000
DTSTAMP:20260423T225431
CREATED:20241102T102125Z
LAST-MODIFIED:20241202T121058Z
UID:3459-1733248800-1733252400@circle.mindthegrad.com
SUMMARY:Career Chat - Q&A Call with Valeria
DESCRIPTION:Hey\, GradCircle! ✈️ We’re excited to announce that we’ve invited Bianca\, a Career Coach and Consultant at Praino Careers\, her own company\, and the Family Engagement Manager for… \n  \n  \n    Please upgrade to Premium Membership to view this content. \n\n\n  Login\n\n \nGo to your Account ==> Subscriptions ==> Change Plan to upgrade your membership. \n(the price will be prorated based on what you have already paid for Standard Membership).
URL:https://circle.mindthegrad.com/event/4dec/
LOCATION:Virtual\, Zoom
CATEGORIES:Weekly Q&A
ATTACH;FMTTYPE=image/png:https://circle.mindthegrad.com/wp-content/uploads/2024/07/Copy-of-6-keys-to-success-2.png
END:VEVENT
BEGIN:VEVENT
DTSTART;TZID=UTC:20241205T160000
DTEND;TZID=UTC:20241205T170000
DTSTAMP:20260423T225431
CREATED:20241202T121359Z
LAST-MODIFIED:20241202T121432Z
UID:3523-1733414400-1733418000@circle.mindthegrad.com
SUMMARY:Interview Skills Seminar
DESCRIPTION:Hey\, GradCircle! ✈️ We’re excited to announce that we’ve invited Bianca\, a Career Coach and Consultant at Praino Careers\, her own company\, and the Family Engagement Manager for… \n  \n  \n    Please upgrade to Premium Membership to view this content. \n\n\n  Login\n\n \nGo to your Account ==> Subscriptions ==> Change Plan to upgrade your membership. \n(the price will be prorated based on what you have already paid for Standard Membership).
URL:https://circle.mindthegrad.com/event/interview-skills-seminar/
ATTACH;FMTTYPE=image/png:https://circle.mindthegrad.com/wp-content/uploads/2024/08/interview.png
END:VEVENT
BEGIN:VEVENT
DTSTART;TZID=Europe/London:20241209T170000
DTEND;TZID=Europe/London:20241209T180000
DTSTAMP:20260423T225431
CREATED:20241110T120855Z
LAST-MODIFIED:20241110T120855Z
UID:3485-1733763600-1733767200@circle.mindthegrad.com
SUMMARY:Job Strategy Seminar
DESCRIPTION:Hey\, GradCircle! ✈️ We’re excited to announce that we’ve invited Bianca\, a Career Coach and Consultant at Praino Careers\, her own company\, and the Family Engagement Manager for… \n  \n  \n    Please upgrade to Premium Membership to view this content. \n\n\n  Login\n\n \nGo to your Account ==> Subscriptions ==> Change Plan to upgrade your membership. \n(the price will be prorated based on what you have already paid for Standard Membership).
URL:https://circle.mindthegrad.com/event/9dec/
LOCATION:Virtual\, Zoom
CATEGORIES:Workshops
ATTACH;FMTTYPE=image/png:https://circle.mindthegrad.com/wp-content/uploads/2024/08/Copy-of-6-keys-to-success1fsg.png
END:VEVENT
BEGIN:VEVENT
DTSTART;TZID=Europe/London:20241211T160000
DTEND;TZID=Europe/London:20241211T170000
DTSTAMP:20260423T225431
CREATED:20241102T101425Z
LAST-MODIFIED:20241209T112159Z
UID:3451-1733932800-1733936400@circle.mindthegrad.com
SUMMARY:Career Chat - Q&A Call with Valeria
DESCRIPTION:Hey\, GradCircle! ✈️ We’re excited to announce that we’ve invited Bianca\, a Career Coach and Consultant at Praino Careers\, her own company\, and the Family Engagement Manager for… \n  \n  \n    Please upgrade to Premium Membership to view this content. \n\n\n  Login\n\n \nGo to your Account ==> Subscriptions ==> Change Plan to upgrade your membership. \n(the price will be prorated based on what you have already paid for Standard Membership).
URL:https://circle.mindthegrad.com/event/13nov/
LOCATION:Virtual\, Zoom
CATEGORIES:Weekly Q&A
ATTACH;FMTTYPE=image/png:https://circle.mindthegrad.com/wp-content/uploads/2024/07/Copy-of-6-keys-to-success-2.png
END:VEVENT
BEGIN:VEVENT
DTSTART;TZID=Europe/London:20241212T180000
DTEND;TZID=Europe/London:20241212T190000
DTSTAMP:20260423T225431
CREATED:20241102T102135Z
LAST-MODIFIED:20241209T112017Z
UID:3460-1734026400-1734030000@circle.mindthegrad.com
SUMMARY:2024 Wrap up + 2025 Strategy
DESCRIPTION:Hey\, GradCircle! ✈️ We’re excited to announce that we’ve invited Bianca\, a Career Coach and Consultant at Praino Careers\, her own company\, and the Family Engagement Manager for… \n  \n  \n    Please upgrade to Premium Membership to view this content. \n\n\n  Login\n\n \nGo to your Account ==> Subscriptions ==> Change Plan to upgrade your membership. \n(the price will be prorated based on what you have already paid for Standard Membership).
URL:https://circle.mindthegrad.com/event/11dec/
LOCATION:Virtual\, Zoom
CATEGORIES:Weekly Q&A
ATTACH;FMTTYPE=image/png:https://circle.mindthegrad.com/wp-content/uploads/2024/07/Copy-of-6-keys-to-success-2.png
END:VEVENT
END:VCALENDAR