BEGIN:VCALENDAR
VERSION:2.0
PRODID:-//Grad Circle - ECPv6.15.20//NONSGML v1.0//EN
CALSCALE:GREGORIAN
METHOD:PUBLISH
X-WR-CALNAME:Grad Circle
X-ORIGINAL-URL:https://circle.mindthegrad.com
X-WR-CALDESC:Events for Grad Circle
REFRESH-INTERVAL;VALUE=DURATION:PT1H
X-Robots-Tag:noindex
X-PUBLISHED-TTL:PT1H
BEGIN:VTIMEZONE
TZID:Europe/London
BEGIN:DAYLIGHT
TZOFFSETFROM:+0000
TZOFFSETTO:+0100
TZNAME:BST
DTSTART:20230326T010000
END:DAYLIGHT
BEGIN:STANDARD
TZOFFSETFROM:+0100
TZOFFSETTO:+0000
TZNAME:GMT
DTSTART:20231029T010000
END:STANDARD
BEGIN:DAYLIGHT
TZOFFSETFROM:+0000
TZOFFSETTO:+0100
TZNAME:BST
DTSTART:20240331T010000
END:DAYLIGHT
BEGIN:STANDARD
TZOFFSETFROM:+0100
TZOFFSETTO:+0000
TZNAME:GMT
DTSTART:20241027T010000
END:STANDARD
BEGIN:DAYLIGHT
TZOFFSETFROM:+0000
TZOFFSETTO:+0100
TZNAME:BST
DTSTART:20250330T010000
END:DAYLIGHT
BEGIN:STANDARD
TZOFFSETFROM:+0100
TZOFFSETTO:+0000
TZNAME:GMT
DTSTART:20251026T010000
END:STANDARD
END:VTIMEZONE
BEGIN:VEVENT
DTSTART;TZID=Europe/London:20240919T130000
DTEND;TZID=Europe/London:20240919T140000
DTSTAMP:20260423T225357
CREATED:20240815T111650Z
LAST-MODIFIED:20240815T111650Z
UID:3226-1726750800-1726754400@circle.mindthegrad.com
SUMMARY:Interview Skills & Practice Session
DESCRIPTION:Hey\, GradCircle! ✈️ We’re excited to announce that we’ve invited Bianca\, a Career Coach and Consultant at Praino Careers\, her own company\, and the Family Engagement Manager for… \n  \n  \n    Please upgrade to Premium Membership to view this content. \n\n\n  Login\n\n \nGo to your Account ==> Subscriptions ==> Change Plan to upgrade your membership. \n(the price will be prorated based on what you have already paid for Standard Membership).
URL:https://circle.mindthegrad.com/event/19sept/
LOCATION:Virtual\, Zoom
CATEGORIES:Workshops
ATTACH;FMTTYPE=image/png:https://circle.mindthegrad.com/wp-content/uploads/2024/08/interview.png
END:VEVENT
BEGIN:VEVENT
DTSTART;TZID=Europe/London:20240923T160000
DTEND;TZID=Europe/London:20240923T170000
DTSTAMP:20260423T225357
CREATED:20240817T105742Z
LAST-MODIFIED:20240817T105742Z
UID:3271-1727107200-1727110800@circle.mindthegrad.com
SUMMARY:Job Strategy Workshop
DESCRIPTION:Hey\, GradCircle! ✈️ We’re excited to announce that we’ve invited Bianca\, a Career Coach and Consultant at Praino Careers\, her own company\, and the Family Engagement Manager for… \n  \n  \n    Please upgrade to Premium Membership to view this content. \n\n\n  Login\n\n \nGo to your Account ==> Subscriptions ==> Change Plan to upgrade your membership. \n(the price will be prorated based on what you have already paid for Standard Membership).
URL:https://circle.mindthegrad.com/event/23sept/
LOCATION:Virtual\, Zoom
CATEGORIES:Workshops
ATTACH;FMTTYPE=image/png:https://circle.mindthegrad.com/wp-content/uploads/2024/08/Copy-of-6-keys-to-success1fsg.png
END:VEVENT
BEGIN:VEVENT
DTSTART;TZID=Europe/London:20240924T140000
DTEND;TZID=Europe/London:20240924T150000
DTSTAMP:20260423T225357
CREATED:20240816T141321Z
LAST-MODIFIED:20240914T093551Z
UID:3246-1727186400-1727190000@circle.mindthegrad.com
SUMMARY:CV\, Cover Letters and LinkedIn Reviews
DESCRIPTION:Hey\, GradCircle! ✈️ We’re excited to announce that we’ve invited Bianca\, a Career Coach and Consultant at Praino Careers\, her own company\, and the Family Engagement Manager for… \n  \n  \n    Please upgrade to Premium Membership to view this content. \n\n\n  Login\n\n \nGo to your Account ==> Subscriptions ==> Change Plan to upgrade your membership. \n(the price will be prorated based on what you have already paid for Standard Membership).
URL:https://circle.mindthegrad.com/event/24sept/
LOCATION:Virtual\, Zoom
CATEGORIES:Workshops
ATTACH;FMTTYPE=image/png:https://circle.mindthegrad.com/wp-content/uploads/2024/08/Copy-of-6-keys-to-success.png
END:VEVENT
BEGIN:VEVENT
DTSTART;TZID=Europe/London:20240925T180000
DTEND;TZID=Europe/London:20240925T190000
DTSTAMP:20260423T225357
CREATED:20240817T111447Z
LAST-MODIFIED:20240817T111447Z
UID:3289-1727287200-1727290800@circle.mindthegrad.com
SUMMARY:Career Chat - Q&A Call with Valeria
DESCRIPTION:Hey\, GradCircle! ✈️ We’re excited to announce that we’ve invited Bianca\, a Career Coach and Consultant at Praino Careers\, her own company\, and the Family Engagement Manager for… \n  \n  \n    Please upgrade to Premium Membership to view this content. \n\n\n  Login\n\n \nGo to your Account ==> Subscriptions ==> Change Plan to upgrade your membership. \n(the price will be prorated based on what you have already paid for Standard Membership).
URL:https://circle.mindthegrad.com/event/25sept/
LOCATION:Virtual\, Zoom
CATEGORIES:Workshops
ATTACH;FMTTYPE=image/png:https://circle.mindthegrad.com/wp-content/uploads/2024/07/Copy-of-6-keys-to-success-2.png
END:VEVENT
BEGIN:VEVENT
DTSTART;TZID=Europe/London:20240926T170000
DTEND;TZID=Europe/London:20240926T180000
DTSTAMP:20260423T225357
CREATED:20240921T152845Z
LAST-MODIFIED:20240921T152845Z
UID:3402-1727370000-1727373600@circle.mindthegrad.com
SUMMARY:Networking Strategies: Leveraging LinkedIn and Other Platforms
DESCRIPTION:Hey\, GradCircle! ✈️ We’re excited to announce that we’ve invited Bianca\, a Career Coach and Consultant at Praino Careers\, her own company\, and the Family Engagement Manager for… \n  \n  \n    Please upgrade to Premium Membership to view this content. \n\n\n  Login\n\n \nGo to your Account ==> Subscriptions ==> Change Plan to upgrade your membership. \n(the price will be prorated based on what you have already paid for Standard Membership).
URL:https://circle.mindthegrad.com/event/26sept-2/
LOCATION:Virtual\, Zoom
CATEGORIES:Workshops
ATTACH;FMTTYPE=image/png:https://circle.mindthegrad.com/wp-content/uploads/2024/09/Copy-of-6-keys-to-success.png
END:VEVENT
BEGIN:VEVENT
DTSTART;TZID=Europe/London:20240930T173000
DTEND;TZID=Europe/London:20240930T183000
DTSTAMP:20260423T225357
CREATED:20240901T091828Z
LAST-MODIFIED:20240901T100426Z
UID:3333-1727717400-1727721000@circle.mindthegrad.com
SUMMARY:UK Etiquette with Bianca\, Career Coach and Consultant
DESCRIPTION:Hey\, GradCircle! ✈️ We’re excited to announce that we’ve invited Bianca\, a Career Coach and Consultant at Praino Careers\, her own company\, and the Family Engagement Manager for… \n  \n  \n    Please upgrade to Premium Membership to view this content. \n\n\n  Login\n\n \nGo to your Account ==> Subscriptions ==> Change Plan to upgrade your membership. \n(the price will be prorated based on what you have already paid for Standard Membership).
URL:https://circle.mindthegrad.com/event/30sept-2/
LOCATION:Virtual\, Zoom
CATEGORIES:Workshops
ATTACH;FMTTYPE=image/png:https://circle.mindthegrad.com/wp-content/uploads/2024/09/Copy-of-6-keys-to-success-1.png
END:VEVENT
BEGIN:VEVENT
DTSTART;TZID=Europe/London:20241001T150000
DTEND;TZID=Europe/London:20241001T160000
DTSTAMP:20260423T225357
CREATED:20240817T104743Z
LAST-MODIFIED:20240817T110407Z
UID:3264-1727794800-1727798400@circle.mindthegrad.com
SUMMARY:Job Strategy Workshop
DESCRIPTION:Hey\, GradCircle! ✈️ We’re excited to announce that we’ve invited Bianca\, a Career Coach and Consultant at Praino Careers\, her own company\, and the Family Engagement Manager for… \n  \n  \n    Please upgrade to Premium Membership to view this content. \n\n\n  Login\n\n \nGo to your Account ==> Subscriptions ==> Change Plan to upgrade your membership. \n(the price will be prorated based on what you have already paid for Standard Membership).
URL:https://circle.mindthegrad.com/event/1oct/
LOCATION:Virtual\, Zoom
CATEGORIES:Workshops
ATTACH;FMTTYPE=image/png:https://circle.mindthegrad.com/wp-content/uploads/2024/08/Copy-of-6-keys-to-success1fsg.png
END:VEVENT
BEGIN:VEVENT
DTSTART;TZID=Europe/London:20241002T130000
DTEND;TZID=Europe/London:20241002T140000
DTSTAMP:20260423T225357
CREATED:20240815T111833Z
LAST-MODIFIED:20240928T112823Z
UID:3230-1727874000-1727877600@circle.mindthegrad.com
SUMMARY:Interview Skills & Practice Session
DESCRIPTION:Hey\, GradCircle! ✈️ We’re excited to announce that we’ve invited Bianca\, a Career Coach and Consultant at Praino Careers\, her own company\, and the Family Engagement Manager for… \n  \n  \n    Please upgrade to Premium Membership to view this content. \n\n\n  Login\n\n \nGo to your Account ==> Subscriptions ==> Change Plan to upgrade your membership. \n(the price will be prorated based on what you have already paid for Standard Membership).
URL:https://circle.mindthegrad.com/event/2oct/
LOCATION:Virtual\, Zoom
CATEGORIES:Workshops
ATTACH;FMTTYPE=image/png:https://circle.mindthegrad.com/wp-content/uploads/2024/08/interview.png
END:VEVENT
BEGIN:VEVENT
DTSTART;TZID=Europe/London:20241002T180000
DTEND;TZID=Europe/London:20241002T190000
DTSTAMP:20260423T225357
CREATED:20240928T150325Z
LAST-MODIFIED:20240928T150325Z
UID:3424-1727892000-1727895600@circle.mindthegrad.com
SUMMARY:Career Chat - Q&A Call with Valeria
DESCRIPTION:Hey\, GradCircle! ✈️ We’re excited to announce that we’ve invited Bianca\, a Career Coach and Consultant at Praino Careers\, her own company\, and the Family Engagement Manager for… \n  \n  \n    Please upgrade to Premium Membership to view this content. \n\n\n  Login\n\n \nGo to your Account ==> Subscriptions ==> Change Plan to upgrade your membership. \n(the price will be prorated based on what you have already paid for Standard Membership).
URL:https://circle.mindthegrad.com/event/2oct-2/
LOCATION:Virtual\, Zoom
CATEGORIES:Weekly Q&A
ATTACH;FMTTYPE=image/png:https://circle.mindthegrad.com/wp-content/uploads/2024/07/Copy-of-6-keys-to-success-2.png
END:VEVENT
BEGIN:VEVENT
DTSTART;TZID=Europe/London:20241007T160000
DTEND;TZID=Europe/London:20241007T170000
DTSTAMP:20260423T225357
CREATED:20240817T105923Z
LAST-MODIFIED:20240817T105930Z
UID:3274-1728316800-1728320400@circle.mindthegrad.com
SUMMARY:Job Strategy Workshop
DESCRIPTION:Hey\, GradCircle! ✈️ We’re excited to announce that we’ve invited Bianca\, a Career Coach and Consultant at Praino Careers\, her own company\, and the Family Engagement Manager for… \n  \n  \n    Please upgrade to Premium Membership to view this content. \n\n\n  Login\n\n \nGo to your Account ==> Subscriptions ==> Change Plan to upgrade your membership. \n(the price will be prorated based on what you have already paid for Standard Membership).
URL:https://circle.mindthegrad.com/event/7oct/
LOCATION:Virtual\, Zoom
CATEGORIES:Workshops
ATTACH;FMTTYPE=image/png:https://circle.mindthegrad.com/wp-content/uploads/2024/08/Copy-of-6-keys-to-success1fsg.png
END:VEVENT
BEGIN:VEVENT
DTSTART;TZID=Europe/London:20241008T140000
DTEND;TZID=Europe/London:20241008T150000
DTSTAMP:20260423T225357
CREATED:20240816T141502Z
LAST-MODIFIED:20240914T094152Z
UID:3248-1728396000-1728399600@circle.mindthegrad.com
SUMMARY:CV\, Cover Letters and LinkedIn Reviews
DESCRIPTION:Hey\, GradCircle! ✈️ We’re excited to announce that we’ve invited Bianca\, a Career Coach and Consultant at Praino Careers\, her own company\, and the Family Engagement Manager for… \n  \n  \n    Please upgrade to Premium Membership to view this content. \n\n\n  Login\n\n \nGo to your Account ==> Subscriptions ==> Change Plan to upgrade your membership. \n(the price will be prorated based on what you have already paid for Standard Membership).
URL:https://circle.mindthegrad.com/event/8oct/
LOCATION:Virtual\, Zoom
CATEGORIES:Workshops
ATTACH;FMTTYPE=image/png:https://circle.mindthegrad.com/wp-content/uploads/2024/08/Copy-of-6-keys-to-success.png
END:VEVENT
BEGIN:VEVENT
DTSTART;TZID=Europe/London:20241009T140000
DTEND;TZID=Europe/London:20241009T150000
DTSTAMP:20260423T225357
CREATED:20240928T150445Z
LAST-MODIFIED:20241009T100027Z
UID:3426-1728482400-1728486000@circle.mindthegrad.com
SUMMARY:Career Chat - Q&A Call with Valeria
DESCRIPTION:Hey\, GradCircle! ✈️ We’re excited to announce that we’ve invited Bianca\, a Career Coach and Consultant at Praino Careers\, her own company\, and the Family Engagement Manager for… \n  \n  \n    Please upgrade to Premium Membership to view this content. \n\n\n  Login\n\n \nGo to your Account ==> Subscriptions ==> Change Plan to upgrade your membership. \n(the price will be prorated based on what you have already paid for Standard Membership).
URL:https://circle.mindthegrad.com/event/9oct/
LOCATION:Virtual\, Zoom
CATEGORIES:Weekly Q&A
ATTACH;FMTTYPE=image/png:https://circle.mindthegrad.com/wp-content/uploads/2024/07/Copy-of-6-keys-to-success-2.png
END:VEVENT
BEGIN:VEVENT
DTSTART;TZID=Europe/London:20241015T150000
DTEND;TZID=Europe/London:20241015T160000
DTSTAMP:20260423T225357
CREATED:20240817T104908Z
LAST-MODIFIED:20240817T110342Z
UID:3266-1729004400-1729008000@circle.mindthegrad.com
SUMMARY:Job Strategy Workshop
DESCRIPTION:Hey\, GradCircle! ✈️ We’re excited to announce that we’ve invited Bianca\, a Career Coach and Consultant at Praino Careers\, her own company\, and the Family Engagement Manager for… \n  \n  \n    Please upgrade to Premium Membership to view this content. \n\n\n  Login\n\n \nGo to your Account ==> Subscriptions ==> Change Plan to upgrade your membership. \n(the price will be prorated based on what you have already paid for Standard Membership).
URL:https://circle.mindthegrad.com/event/15oct/
LOCATION:Virtual\, Zoom
CATEGORIES:Workshops
ATTACH;FMTTYPE=image/png:https://circle.mindthegrad.com/wp-content/uploads/2024/08/Copy-of-6-keys-to-success1fsg.png
END:VEVENT
BEGIN:VEVENT
DTSTART;TZID=Europe/London:20241016T180000
DTEND;TZID=Europe/London:20241016T190000
DTSTAMP:20260423T225357
CREATED:20240928T150547Z
LAST-MODIFIED:20240928T150953Z
UID:3428-1729101600-1729105200@circle.mindthegrad.com
SUMMARY:Career Chat - Q&A Call with Valeria
DESCRIPTION:Hey\, GradCircle! ✈️ We’re excited to announce that we’ve invited Bianca\, a Career Coach and Consultant at Praino Careers\, her own company\, and the Family Engagement Manager for… \n  \n  \n    Please upgrade to Premium Membership to view this content. \n\n\n  Login\n\n \nGo to your Account ==> Subscriptions ==> Change Plan to upgrade your membership. \n(the price will be prorated based on what you have already paid for Standard Membership).
URL:https://circle.mindthegrad.com/event/16oct/
LOCATION:Virtual\, Zoom
CATEGORIES:Weekly Q&A
ATTACH;FMTTYPE=image/png:https://circle.mindthegrad.com/wp-content/uploads/2024/07/Copy-of-6-keys-to-success-2.png
END:VEVENT
BEGIN:VEVENT
DTSTART;TZID=Europe/London:20241017T130000
DTEND;TZID=Europe/London:20241017T140000
DTSTAMP:20260423T225357
CREATED:20240815T112012Z
LAST-MODIFIED:20240815T112012Z
UID:3232-1729170000-1729173600@circle.mindthegrad.com
SUMMARY:Interview Skills & Practice Session
DESCRIPTION:Hey\, GradCircle! ✈️ We’re excited to announce that we’ve invited Bianca\, a Career Coach and Consultant at Praino Careers\, her own company\, and the Family Engagement Manager for… \n  \n  \n    Please upgrade to Premium Membership to view this content. \n\n\n  Login\n\n \nGo to your Account ==> Subscriptions ==> Change Plan to upgrade your membership. \n(the price will be prorated based on what you have already paid for Standard Membership).
URL:https://circle.mindthegrad.com/event/17oct/
LOCATION:Virtual\, Zoom
CATEGORIES:Workshops
ATTACH;FMTTYPE=image/png:https://circle.mindthegrad.com/wp-content/uploads/2024/08/interview.png
END:VEVENT
BEGIN:VEVENT
DTSTART;TZID=Europe/London:20241021T160000
DTEND;TZID=Europe/London:20241021T170000
DTSTAMP:20260423T225357
CREATED:20240817T110049Z
LAST-MODIFIED:20240817T110049Z
UID:3276-1729526400-1729530000@circle.mindthegrad.com
SUMMARY:Job Strategy Workshop
DESCRIPTION:Hey\, GradCircle! ✈️ We’re excited to announce that we’ve invited Bianca\, a Career Coach and Consultant at Praino Careers\, her own company\, and the Family Engagement Manager for… \n  \n  \n    Please upgrade to Premium Membership to view this content. \n\n\n  Login\n\n \nGo to your Account ==> Subscriptions ==> Change Plan to upgrade your membership. \n(the price will be prorated based on what you have already paid for Standard Membership).
URL:https://circle.mindthegrad.com/event/21oct/
LOCATION:Virtual\, Zoom
CATEGORIES:Workshops
ATTACH;FMTTYPE=image/png:https://circle.mindthegrad.com/wp-content/uploads/2024/08/Copy-of-6-keys-to-success1fsg.png
END:VEVENT
BEGIN:VEVENT
DTSTART;TZID=Europe/London:20241022T140000
DTEND;TZID=Europe/London:20241022T150000
DTSTAMP:20260423T225357
CREATED:20240816T141637Z
LAST-MODIFIED:20240914T094443Z
UID:3250-1729605600-1729609200@circle.mindthegrad.com
SUMMARY:CV\, Cover Letters and LinkedIn Reviews
DESCRIPTION:Hey\, GradCircle! ✈️ We’re excited to announce that we’ve invited Bianca\, a Career Coach and Consultant at Praino Careers\, her own company\, and the Family Engagement Manager for… \n  \n  \n    Please upgrade to Premium Membership to view this content. \n\n\n  Login\n\n \nGo to your Account ==> Subscriptions ==> Change Plan to upgrade your membership. \n(the price will be prorated based on what you have already paid for Standard Membership).
URL:https://circle.mindthegrad.com/event/22oct/
LOCATION:Virtual\, Zoom
CATEGORIES:Workshops
ATTACH;FMTTYPE=image/png:https://circle.mindthegrad.com/wp-content/uploads/2024/08/Copy-of-6-keys-to-success.png
END:VEVENT
BEGIN:VEVENT
DTSTART;TZID=Europe/London:20241023T160000
DTEND;TZID=Europe/London:20241023T170000
DTSTAMP:20260423T225357
CREATED:20240928T150712Z
LAST-MODIFIED:20241021T114115Z
UID:3430-1729699200-1729702800@circle.mindthegrad.com
SUMMARY:Career Chat - Q&A Call with Valeria
DESCRIPTION:Hey\, GradCircle! ✈️ We’re excited to announce that we’ve invited Bianca\, a Career Coach and Consultant at Praino Careers\, her own company\, and the Family Engagement Manager for… \n  \n  \n    Please upgrade to Premium Membership to view this content. \n\n\n  Login\n\n \nGo to your Account ==> Subscriptions ==> Change Plan to upgrade your membership. \n(the price will be prorated based on what you have already paid for Standard Membership).
URL:https://circle.mindthegrad.com/event/23oct/
LOCATION:Virtual\, Zoom
CATEGORIES:Weekly Q&A
ATTACH;FMTTYPE=image/png:https://circle.mindthegrad.com/wp-content/uploads/2024/07/Copy-of-6-keys-to-success-2.png
END:VEVENT
BEGIN:VEVENT
DTSTART;TZID=Europe/London:20241029T150000
DTEND;TZID=Europe/London:20241029T160000
DTSTAMP:20260423T225357
CREATED:20240707T105707Z
LAST-MODIFIED:20240807T112459Z
UID:3071-1730214000-1730217600@circle.mindthegrad.com
SUMMARY:UK Immigration Workshop with Gina\, Immigration Lawyer
DESCRIPTION:Hey\, GradCircle! ✈️ We’re excited to announce that we’ve invited Bianca\, a Career Coach and Consultant at Praino Careers\, her own company\, and the Family Engagement Manager for… \n  \n  \n    Please upgrade to Premium Membership to view this content. \n\n\n  Login\n\n \nGo to your Account ==> Subscriptions ==> Change Plan to upgrade your membership. \n(the price will be prorated based on what you have already paid for Standard Membership).
URL:https://circle.mindthegrad.com/event/29oct-gina/
LOCATION:Virtual\, Zoom
CATEGORIES:Workshops
ATTACH;FMTTYPE=image/png:https://circle.mindthegrad.com/wp-content/uploads/2024/07/Copy-of-6-keys-to-success.png
END:VEVENT
BEGIN:VEVENT
DTSTART;TZID=Europe/London:20241030T180000
DTEND;TZID=Europe/London:20241030T190000
DTSTAMP:20260423T225357
CREATED:20240928T150850Z
LAST-MODIFIED:20240928T150850Z
UID:3432-1730311200-1730314800@circle.mindthegrad.com
SUMMARY:Career Chat - Q&A Call with Valeria
DESCRIPTION:Hey\, GradCircle! ✈️ We’re excited to announce that we’ve invited Bianca\, a Career Coach and Consultant at Praino Careers\, her own company\, and the Family Engagement Manager for… \n  \n  \n    Please upgrade to Premium Membership to view this content. \n\n\n  Login\n\n \nGo to your Account ==> Subscriptions ==> Change Plan to upgrade your membership. \n(the price will be prorated based on what you have already paid for Standard Membership).
URL:https://circle.mindthegrad.com/event/30oct/
LOCATION:Virtual\, Zoom
CATEGORIES:Weekly Q&A
ATTACH;FMTTYPE=image/png:https://circle.mindthegrad.com/wp-content/uploads/2024/07/Copy-of-6-keys-to-success-2.png
END:VEVENT
BEGIN:VEVENT
DTSTART;TZID=Europe/London:20241104T160000
DTEND;TZID=Europe/London:20241104T170000
DTSTAMP:20260423T225357
CREATED:20240817T110248Z
LAST-MODIFIED:20240817T110248Z
UID:3278-1730736000-1730739600@circle.mindthegrad.com
SUMMARY:Job Strategy Workshop
DESCRIPTION:Hey\, GradCircle! ✈️ We’re excited to announce that we’ve invited Bianca\, a Career Coach and Consultant at Praino Careers\, her own company\, and the Family Engagement Manager for… \n  \n  \n    Please upgrade to Premium Membership to view this content. \n\n\n  Login\n\n \nGo to your Account ==> Subscriptions ==> Change Plan to upgrade your membership. \n(the price will be prorated based on what you have already paid for Standard Membership).
URL:https://circle.mindthegrad.com/event/4nov/
LOCATION:Virtual\, Zoom
CATEGORIES:Workshops
ATTACH;FMTTYPE=image/png:https://circle.mindthegrad.com/wp-content/uploads/2024/08/Copy-of-6-keys-to-success1fsg.png
END:VEVENT
BEGIN:VEVENT
DTSTART;TZID=Europe/London:20241105T180000
DTEND;TZID=Europe/London:20241105T190000
DTSTAMP:20260423T225357
CREATED:20241102T101422Z
LAST-MODIFIED:20241103T093412Z
UID:3450-1730829600-1730833200@circle.mindthegrad.com
SUMMARY:Career Chat - Q&A Call with Valeria
DESCRIPTION:Hey\, GradCircle! ✈️ We’re excited to announce that we’ve invited Bianca\, a Career Coach and Consultant at Praino Careers\, her own company\, and the Family Engagement Manager for… \n  \n  \n    Please upgrade to Premium Membership to view this content. \n\n\n  Login\n\n \nGo to your Account ==> Subscriptions ==> Change Plan to upgrade your membership. \n(the price will be prorated based on what you have already paid for Standard Membership).
URL:https://circle.mindthegrad.com/event/5nov/
LOCATION:Virtual\, Zoom
CATEGORIES:Weekly Q&A
ATTACH;FMTTYPE=image/png:https://circle.mindthegrad.com/wp-content/uploads/2024/07/Copy-of-6-keys-to-success-2.png
END:VEVENT
BEGIN:VEVENT
DTSTART;TZID=Europe/London:20241107T170000
DTEND;TZID=Europe/London:20241107T180000
DTSTAMP:20260423T225357
CREATED:20240816T142827Z
LAST-MODIFIED:20240816T142827Z
UID:3260-1730998800-1731002400@circle.mindthegrad.com
SUMMARY:Interview Skills & Practice Session
DESCRIPTION:Hey\, GradCircle! ✈️ We’re excited to announce that we’ve invited Bianca\, a Career Coach and Consultant at Praino Careers\, her own company\, and the Family Engagement Manager for… \n  \n  \n    Please upgrade to Premium Membership to view this content. \n\n\n  Login\n\n \nGo to your Account ==> Subscriptions ==> Change Plan to upgrade your membership. \n(the price will be prorated based on what you have already paid for Standard Membership).
URL:https://circle.mindthegrad.com/event/7nov/
LOCATION:Virtual\, Zoom
CATEGORIES:Workshops
ATTACH;FMTTYPE=image/png:https://circle.mindthegrad.com/wp-content/uploads/2024/08/interview.png
END:VEVENT
BEGIN:VEVENT
DTSTART;TZID=Europe/London:20241111T170000
DTEND;TZID=Europe/London:20241111T180000
DTSTAMP:20260423T225357
CREATED:20241110T120114Z
LAST-MODIFIED:20241110T120114Z
UID:3477-1731344400-1731348000@circle.mindthegrad.com
SUMMARY:Job Strategy Seminar
DESCRIPTION:Hey\, GradCircle! ✈️ We’re excited to announce that we’ve invited Bianca\, a Career Coach and Consultant at Praino Careers\, her own company\, and the Family Engagement Manager for… \n  \n  \n    Please upgrade to Premium Membership to view this content. \n\n\n  Login\n\n \nGo to your Account ==> Subscriptions ==> Change Plan to upgrade your membership. \n(the price will be prorated based on what you have already paid for Standard Membership).
URL:https://circle.mindthegrad.com/event/11nov/
LOCATION:Virtual\, Zoom
CATEGORIES:Workshops
ATTACH;FMTTYPE=image/png:https://circle.mindthegrad.com/wp-content/uploads/2024/08/Copy-of-6-keys-to-success1fsg.png
END:VEVENT
BEGIN:VEVENT
DTSTART;TZID=Europe/London:20241115T160000
DTEND;TZID=Europe/London:20241115T170000
DTSTAMP:20260423T225357
CREATED:20241110T121651Z
LAST-MODIFIED:20241114T111511Z
UID:3493-1731686400-1731690000@circle.mindthegrad.com
SUMMARY:Interview Skills Seminar
DESCRIPTION:Hey\, GradCircle! ✈️ We’re excited to announce that we’ve invited Bianca\, a Career Coach and Consultant at Praino Careers\, her own company\, and the Family Engagement Manager for… \n  \n  \n    Please upgrade to Premium Membership to view this content. \n\n\n  Login\n\n \nGo to your Account ==> Subscriptions ==> Change Plan to upgrade your membership. \n(the price will be prorated based on what you have already paid for Standard Membership).
URL:https://circle.mindthegrad.com/event/14nov/
LOCATION:Virtual\, Zoom
ATTACH;FMTTYPE=image/png:https://circle.mindthegrad.com/wp-content/uploads/2024/08/interview.png
END:VEVENT
BEGIN:VEVENT
DTSTART;TZID=Europe/London:20241118T170000
DTEND;TZID=Europe/London:20241118T180000
DTSTAMP:20260423T225357
CREATED:20241110T120541Z
LAST-MODIFIED:20241110T120541Z
UID:3481-1731949200-1731952800@circle.mindthegrad.com
SUMMARY:Job Strategy Seminar
DESCRIPTION:Hey\, GradCircle! ✈️ We’re excited to announce that we’ve invited Bianca\, a Career Coach and Consultant at Praino Careers\, her own company\, and the Family Engagement Manager for… \n  \n  \n    Please upgrade to Premium Membership to view this content. \n\n\n  Login\n\n \nGo to your Account ==> Subscriptions ==> Change Plan to upgrade your membership. \n(the price will be prorated based on what you have already paid for Standard Membership).
URL:https://circle.mindthegrad.com/event/18nov/
LOCATION:Virtual\, Zoom
CATEGORIES:Workshops
ATTACH;FMTTYPE=image/png:https://circle.mindthegrad.com/wp-content/uploads/2024/08/Copy-of-6-keys-to-success1fsg.png
END:VEVENT
BEGIN:VEVENT
DTSTART;TZID=Europe/London:20241119T180000
DTEND;TZID=Europe/London:20241119T190000
DTSTAMP:20260423T225357
CREATED:20241110T121703Z
LAST-MODIFIED:20241118T111104Z
UID:3494-1732039200-1732042800@circle.mindthegrad.com
SUMMARY:Interview Skills Seminar
DESCRIPTION:Hey\, GradCircle! ✈️ We’re excited to announce that we’ve invited Bianca\, a Career Coach and Consultant at Praino Careers\, her own company\, and the Family Engagement Manager for… \n  \n  \n    Please upgrade to Premium Membership to view this content. \n\n\n  Login\n\n \nGo to your Account ==> Subscriptions ==> Change Plan to upgrade your membership. \n(the price will be prorated based on what you have already paid for Standard Membership).
URL:https://circle.mindthegrad.com/event/21nov/
LOCATION:Virtual\, Zoom
CATEGORIES:Workshops
ATTACH;FMTTYPE=image/png:https://circle.mindthegrad.com/wp-content/uploads/2024/08/interview.png
END:VEVENT
BEGIN:VEVENT
DTSTART;TZID=Europe/London:20241120T180000
DTEND;TZID=Europe/London:20241120T190000
DTSTAMP:20260423T225357
CREATED:20241102T101855Z
LAST-MODIFIED:20241102T101855Z
UID:3456-1732125600-1732129200@circle.mindthegrad.com
SUMMARY:Career Chat - Q&A Call with Valeria
DESCRIPTION:Hey\, GradCircle! ✈️ We’re excited to announce that we’ve invited Bianca\, a Career Coach and Consultant at Praino Careers\, her own company\, and the Family Engagement Manager for… \n  \n  \n    Please upgrade to Premium Membership to view this content. \n\n\n  Login\n\n \nGo to your Account ==> Subscriptions ==> Change Plan to upgrade your membership. \n(the price will be prorated based on what you have already paid for Standard Membership).
URL:https://circle.mindthegrad.com/event/20nov/
LOCATION:Virtual\, Zoom
CATEGORIES:Weekly Q&A
ATTACH;FMTTYPE=image/png:https://circle.mindthegrad.com/wp-content/uploads/2024/07/Copy-of-6-keys-to-success-2.png
END:VEVENT
BEGIN:VEVENT
DTSTART;TZID=Europe/London:20241125T170000
DTEND;TZID=Europe/London:20241125T180000
DTSTAMP:20260423T225357
CREATED:20241110T120545Z
LAST-MODIFIED:20241110T120545Z
UID:3482-1732554000-1732557600@circle.mindthegrad.com
SUMMARY:Job Strategy Seminar
DESCRIPTION:Hey\, GradCircle! ✈️ We’re excited to announce that we’ve invited Bianca\, a Career Coach and Consultant at Praino Careers\, her own company\, and the Family Engagement Manager for… \n  \n  \n    Please upgrade to Premium Membership to view this content. \n\n\n  Login\n\n \nGo to your Account ==> Subscriptions ==> Change Plan to upgrade your membership. \n(the price will be prorated based on what you have already paid for Standard Membership).
URL:https://circle.mindthegrad.com/event/25nov/
LOCATION:Virtual\, Zoom
CATEGORIES:Workshops
ATTACH;FMTTYPE=image/png:https://circle.mindthegrad.com/wp-content/uploads/2024/08/Copy-of-6-keys-to-success1fsg.png
END:VEVENT
BEGIN:VEVENT
DTSTART;TZID=Europe/London:20241127T180000
DTEND;TZID=Europe/London:20241127T190000
DTSTAMP:20260423T225357
CREATED:20241102T101845Z
LAST-MODIFIED:20241102T101845Z
UID:3455-1732730400-1732734000@circle.mindthegrad.com
SUMMARY:Career Chat - Q&A Call with Valeria
DESCRIPTION:Hey\, GradCircle! ✈️ We’re excited to announce that we’ve invited Bianca\, a Career Coach and Consultant at Praino Careers\, her own company\, and the Family Engagement Manager for… \n  \n  \n    Please upgrade to Premium Membership to view this content. \n\n\n  Login\n\n \nGo to your Account ==> Subscriptions ==> Change Plan to upgrade your membership. \n(the price will be prorated based on what you have already paid for Standard Membership).
URL:https://circle.mindthegrad.com/event/27nov/
LOCATION:Virtual\, Zoom
CATEGORIES:Weekly Q&A
ATTACH;FMTTYPE=image/png:https://circle.mindthegrad.com/wp-content/uploads/2024/07/Copy-of-6-keys-to-success-2.png
END:VEVENT
END:VCALENDAR