BEGIN:VCALENDAR
VERSION:2.0
PRODID:-//Grad Circle - ECPv6.15.20//NONSGML v1.0//EN
CALSCALE:GREGORIAN
METHOD:PUBLISH
X-WR-CALNAME:Grad Circle
X-ORIGINAL-URL:https://circle.mindthegrad.com
X-WR-CALDESC:Events for Grad Circle
REFRESH-INTERVAL;VALUE=DURATION:PT1H
X-Robots-Tag:noindex
X-PUBLISHED-TTL:PT1H
BEGIN:VTIMEZONE
TZID:Europe/London
BEGIN:DAYLIGHT
TZOFFSETFROM:+0000
TZOFFSETTO:+0100
TZNAME:BST
DTSTART:20230326T010000
END:DAYLIGHT
BEGIN:STANDARD
TZOFFSETFROM:+0100
TZOFFSETTO:+0000
TZNAME:GMT
DTSTART:20231029T010000
END:STANDARD
BEGIN:DAYLIGHT
TZOFFSETFROM:+0000
TZOFFSETTO:+0100
TZNAME:BST
DTSTART:20240331T010000
END:DAYLIGHT
BEGIN:STANDARD
TZOFFSETFROM:+0100
TZOFFSETTO:+0000
TZNAME:GMT
DTSTART:20241027T010000
END:STANDARD
BEGIN:DAYLIGHT
TZOFFSETFROM:+0000
TZOFFSETTO:+0100
TZNAME:BST
DTSTART:20250330T010000
END:DAYLIGHT
BEGIN:STANDARD
TZOFFSETFROM:+0100
TZOFFSETTO:+0000
TZNAME:GMT
DTSTART:20251026T010000
END:STANDARD
END:VTIMEZONE
BEGIN:VTIMEZONE
TZID:Europe/Paris
BEGIN:DAYLIGHT
TZOFFSETFROM:+0100
TZOFFSETTO:+0200
TZNAME:CEST
DTSTART:20230326T010000
END:DAYLIGHT
BEGIN:STANDARD
TZOFFSETFROM:+0200
TZOFFSETTO:+0100
TZNAME:CET
DTSTART:20231029T010000
END:STANDARD
BEGIN:DAYLIGHT
TZOFFSETFROM:+0100
TZOFFSETTO:+0200
TZNAME:CEST
DTSTART:20240331T010000
END:DAYLIGHT
BEGIN:STANDARD
TZOFFSETFROM:+0200
TZOFFSETTO:+0100
TZNAME:CET
DTSTART:20241027T010000
END:STANDARD
BEGIN:DAYLIGHT
TZOFFSETFROM:+0100
TZOFFSETTO:+0200
TZNAME:CEST
DTSTART:20250330T010000
END:DAYLIGHT
BEGIN:STANDARD
TZOFFSETFROM:+0200
TZOFFSETTO:+0100
TZNAME:CET
DTSTART:20251026T010000
END:STANDARD
END:VTIMEZONE
BEGIN:VTIMEZONE
TZID:UTC
BEGIN:STANDARD
TZOFFSETFROM:+0000
TZOFFSETTO:+0000
TZNAME:UTC
DTSTART:20230101T000000
END:STANDARD
END:VTIMEZONE
BEGIN:VEVENT
DTSTART;TZID=Europe/London:20240709T150000
DTEND;TZID=Europe/London:20240709T160000
DTSTAMP:20260424T001350
CREATED:20240615T162313Z
LAST-MODIFIED:20240615T162313Z
UID:2990-1720537200-1720540800@circle.mindthegrad.com
SUMMARY:Seminar - Your Job Search Strategy
DESCRIPTION:Hey\, GradCircle! ✈️ We invite you to the session\, during which Valeria will give feedback on your CV\, Cover Letters\, and LinkedIn during the Zoom call.… \n  \n  \n    Please upgrade to Premium Membership to view this content. \n\n\n  Login\n\n \nGo to your Account ==> Subscriptions ==> Change Plan to upgrade your membership. \n(the price will be prorated based on what you have already paid for Standard Membership).
URL:https://circle.mindthegrad.com/event/9july/
LOCATION:Virtual\, Zoom
CATEGORIES:Public Webinar
ATTACH;FMTTYPE=image/jpeg:https://circle.mindthegrad.com/wp-content/uploads/2024/01/pexels-photo-7688458.jpeg
END:VEVENT
BEGIN:VEVENT
DTSTART;TZID=Europe/London:20240708T180000
DTEND;TZID=Europe/London:20240708T190000
DTSTAMP:20260424T001350
CREATED:20240615T151058Z
LAST-MODIFIED:20240615T151058Z
UID:2980-1720461600-1720465200@circle.mindthegrad.com
SUMMARY:CV\, Cover Letters and LinkedIn Reviews
DESCRIPTION:Hey\, GradCircle! ✈️ We invite you to the session\, during which Valeria will give feedback on your CV\, Cover Letters\, and LinkedIn during the Zoom call.… \n  \n  \n    Please upgrade to Premium Membership to view this content. \n\n\n  Login\n\n \nGo to your Account ==> Subscriptions ==> Change Plan to upgrade your membership. \n(the price will be prorated based on what you have already paid for Standard Membership).
URL:https://circle.mindthegrad.com/event/8-july/
LOCATION:Virtual\, Zoom
CATEGORIES:Public Webinar
ATTACH;FMTTYPE=image/jpeg:https://circle.mindthegrad.com/wp-content/uploads/2024/04/pexels-ketut-subiyanto-4350173-scaled.jpg
END:VEVENT
BEGIN:VEVENT
DTSTART;TZID=Europe/London:20240703T170000
DTEND;TZID=Europe/London:20240703T180000
DTSTAMP:20260424T001350
CREATED:20240615T163143Z
LAST-MODIFIED:20240615T163143Z
UID:2994-1720026000-1720029600@circle.mindthegrad.com
SUMMARY:Interview Skills & Practice Session
DESCRIPTION:Hey\, GradCircle! ✈️ We invite you to the session\, during which Valeria will give feedback on your CV\, Cover Letters\, and LinkedIn during the Zoom call.… \n  \n  \n    Please upgrade to Premium Membership to view this content. \n\n\n  Login\n\n \nGo to your Account ==> Subscriptions ==> Change Plan to upgrade your membership. \n(the price will be prorated based on what you have already paid for Standard Membership).
URL:https://circle.mindthegrad.com/event/3july-2/
LOCATION:Virtual\, Zoom
CATEGORIES:Public Webinar
ATTACH;FMTTYPE=image/jpeg:https://circle.mindthegrad.com/wp-content/uploads/2024/04/pexels-anna-shvets-5324958-scaled.jpg
END:VEVENT
BEGIN:VEVENT
DTSTART;TZID=Europe/London:20240702T140000
DTEND;TZID=Europe/London:20240702T150000
DTSTAMP:20260424T001350
CREATED:20240615T150034Z
LAST-MODIFIED:20240615T150213Z
UID:2974-1719928800-1719932400@circle.mindthegrad.com
SUMMARY:LIVE CV\, Cover Letters and LinkedIn Reviews
DESCRIPTION:Hey\, GradCircle! ✈️ We invite you to the session\, during which Valeria will give feedback on your CV\, Cover Letters\, and LinkedIn during the Zoom call.… \n  \n  \n    Please upgrade to Premium Membership to view this content. \n\n\n  Login\n\n \nGo to your Account ==> Subscriptions ==> Change Plan to upgrade your membership. \n(the price will be prorated based on what you have already paid for Standard Membership).
URL:https://circle.mindthegrad.com/event/2july/
LOCATION:Virtual\, Zoom
CATEGORIES:Public Webinar
ATTACH;FMTTYPE=image/jpeg:https://circle.mindthegrad.com/wp-content/uploads/2023/11/pexels-anna-shvets-3727463.jpg
END:VEVENT
BEGIN:VEVENT
DTSTART;TZID=Europe/London:20240701T170000
DTEND;TZID=Europe/London:20240701T180000
DTSTAMP:20260424T001350
CREATED:20240615T114345Z
LAST-MODIFIED:20240615T161424Z
UID:2948-1719853200-1719856800@circle.mindthegrad.com
SUMMARY:Seminar: Your Job Search Strategy
DESCRIPTION:Hey\, GradCircle! ✈️ We invite you to the session\, during which Valeria will give feedback on your CV\, Cover Letters\, and LinkedIn during the Zoom call.… \n  \n  \n    Please upgrade to Premium Membership to view this content. \n\n\n  Login\n\n \nGo to your Account ==> Subscriptions ==> Change Plan to upgrade your membership. \n(the price will be prorated based on what you have already paid for Standard Membership).
URL:https://circle.mindthegrad.com/event/1july/
LOCATION:Virtual\, Zoom
CATEGORIES:Public Webinar
ATTACH;FMTTYPE=image/jpeg:https://circle.mindthegrad.com/wp-content/uploads/2024/01/pexels-photo-7688458.jpeg
END:VEVENT
BEGIN:VEVENT
DTSTART;TZID=Europe/London:20240627T130000
DTEND;TZID=Europe/London:20240627T140000
DTSTAMP:20260424T001350
CREATED:20240615T110823Z
LAST-MODIFIED:20240615T110823Z
UID:2935-1719493200-1719496800@circle.mindthegrad.com
SUMMARY:Interview Skills & Practice Session
DESCRIPTION:Hey\, GradCircle! ✈️ We invite you to the session\, during which Valeria will give feedback on your CV\, Cover Letters\, and LinkedIn during the Zoom call.… \n  \n  \n    Please upgrade to Premium Membership to view this content. \n\n\n  Login\n\n \nGo to your Account ==> Subscriptions ==> Change Plan to upgrade your membership. \n(the price will be prorated based on what you have already paid for Standard Membership).
URL:https://circle.mindthegrad.com/event/27june/
LOCATION:Virtual\, Zoom
CATEGORIES:Public Webinar
ATTACH;FMTTYPE=image/jpeg:https://circle.mindthegrad.com/wp-content/uploads/2024/04/pexels-alexander-suhorucov-6457589-scaled.jpg
END:VEVENT
BEGIN:VEVENT
DTSTART;TZID=Europe/London:20240626T170000
DTEND;TZID=Europe/London:20240626T180000
DTSTAMP:20260424T001350
CREATED:20240615T115638Z
LAST-MODIFIED:20240615T115638Z
UID:2953-1719421200-1719424800@circle.mindthegrad.com
SUMMARY:Group Tasks-Assessment Centre Workshop
DESCRIPTION:Hey\, GradCircle! ✈️ We invite you to the session\, during which Valeria will give feedback on your CV\, Cover Letters\, and LinkedIn during the Zoom call.… \n  \n  \n    Please upgrade to Premium Membership to view this content. \n\n\n  Login\n\n \nGo to your Account ==> Subscriptions ==> Change Plan to upgrade your membership. \n(the price will be prorated based on what you have already paid for Standard Membership).
URL:https://circle.mindthegrad.com/event/26june-2/
LOCATION:Virtual\, Zoom
CATEGORIES:Public Webinar
ATTACH;FMTTYPE=image/jpeg:https://circle.mindthegrad.com/wp-content/uploads/2024/01/pexels-ivan-samkov-5676744-scaled.jpg
END:VEVENT
BEGIN:VEVENT
DTSTART;TZID=Europe/London:20240625T150000
DTEND;TZID=Europe/London:20240625T160000
DTSTAMP:20260424T001350
CREATED:20240615T112111Z
LAST-MODIFIED:20240615T115027Z
UID:2940-1719327600-1719331200@circle.mindthegrad.com
SUMMARY:Seminar - Your Job Search Strategy
DESCRIPTION:Hey\, GradCircle! ✈️ We invite you to the session\, during which Valeria will give feedback on your CV\, Cover Letters\, and LinkedIn during the Zoom call.… \n  \n  \n    Please upgrade to Premium Membership to view this content. \n\n\n  Login\n\n \nGo to your Account ==> Subscriptions ==> Change Plan to upgrade your membership. \n(the price will be prorated based on what you have already paid for Standard Membership).
URL:https://circle.mindthegrad.com/event/25june/
LOCATION:Virtual\, Zoom
CATEGORIES:Public Webinar
ATTACH;FMTTYPE=image/jpeg:https://circle.mindthegrad.com/wp-content/uploads/2024/04/pexels-karolina-grabowska-4491451-scaled.jpg
END:VEVENT
BEGIN:VEVENT
DTSTART;TZID=Europe/London:20240624T180000
DTEND;TZID=Europe/London:20240624T190000
DTSTAMP:20260424T001350
CREATED:20240615T103822Z
LAST-MODIFIED:20240615T150807Z
UID:2920-1719252000-1719255600@circle.mindthegrad.com
SUMMARY:CV\, Cover Letters and LinkedIn Reviews
DESCRIPTION:Hey\, GradCircle! ✈️ We invite you to the session\, during which Valeria will give feedback on your CV\, Cover Letters\, and LinkedIn during the Zoom call.… \n  \n  \n    Please upgrade to Premium Membership to view this content. \n\n\n  Login\n\n \nGo to your Account ==> Subscriptions ==> Change Plan to upgrade your membership. \n(the price will be prorated based on what you have already paid for Standard Membership).
URL:https://circle.mindthegrad.com/event/24june/
LOCATION:Virtual\, Zoom
CATEGORIES:Public Webinar
ATTACH;FMTTYPE=image/jpeg:https://circle.mindthegrad.com/wp-content/uploads/2024/04/pexels-ketut-subiyanto-4350173-scaled.jpg
END:VEVENT
BEGIN:VEVENT
DTSTART;TZID=Europe/London:20240619T170000
DTEND;TZID=Europe/London:20240619T180000
DTSTAMP:20260424T001350
CREATED:20240615T105709Z
LAST-MODIFIED:20240615T110402Z
UID:2926-1718816400-1718820000@circle.mindthegrad.com
SUMMARY:Interview Skills & Practice Session
DESCRIPTION:Hey\, GradCircle! ✈️ We invite you to the session\, during which Valeria will give feedback on your CV\, Cover Letters\, and LinkedIn during the Zoom call.… \n  \n  \n    Please upgrade to Premium Membership to view this content. \n\n\n  Login\n\n \nGo to your Account ==> Subscriptions ==> Change Plan to upgrade your membership. \n(the price will be prorated based on what you have already paid for Standard Membership).
URL:https://circle.mindthegrad.com/event/19june-2/
LOCATION:Virtual\, Zoom
CATEGORIES:Public Webinar
ATTACH;FMTTYPE=image/jpeg:https://circle.mindthegrad.com/wp-content/uploads/2024/04/pexels-anna-shvets-5324958-scaled.jpg
END:VEVENT
BEGIN:VEVENT
DTSTART;TZID=Europe/London:20240618T140000
DTEND;TZID=Europe/London:20240618T150000
DTSTAMP:20260424T001350
CREATED:20240615T102705Z
LAST-MODIFIED:20240615T143252Z
UID:2913-1718719200-1718722800@circle.mindthegrad.com
SUMMARY:LIVE CV\, Cover Letters and LinkedIn Reviews
DESCRIPTION:Hey\, GradCircle! ✈️ We invite you to the session\, during which Valeria will give feedback on your CV\, Cover Letters\, and LinkedIn during the Zoom call.… \n  \n  \n    Please upgrade to Premium Membership to view this content. \n\n\n  Login\n\n \nGo to your Account ==> Subscriptions ==> Change Plan to upgrade your membership. \n(the price will be prorated based on what you have already paid for Standard Membership).
URL:https://circle.mindthegrad.com/event/18june/
LOCATION:Virtual\, Zoom
CATEGORIES:Public Webinar
ATTACH;FMTTYPE=image/jpeg:https://circle.mindthegrad.com/wp-content/uploads/2023/11/pexels-anna-shvets-3727463.jpg
END:VEVENT
BEGIN:VEVENT
DTSTART;TZID=Europe/Paris:20240612T200000
DTEND;TZID=Europe/Paris:20240612T210000
DTSTAMP:20260424T001350
CREATED:20240604T174656Z
LAST-MODIFIED:20240604T181648Z
UID:2880-1718222400-1718226000@circle.mindthegrad.com
SUMMARY:Free Webinar - 3 Steps to Negotiate your Visa Sponsorship in the UK
DESCRIPTION:Hey\, GradCircle! ✈️ We invite you to the session\, during which Valeria will give feedback on your CV\, Cover Letters\, and LinkedIn during the Zoom call.… \n  \n  \n    Please upgrade to Premium Membership to view this content. \n\n\n  Login\n\n \nGo to your Account ==> Subscriptions ==> Change Plan to upgrade your membership. \n(the price will be prorated based on what you have already paid for Standard Membership).
URL:https://circle.mindthegrad.com/event/visa-webinar/
CATEGORIES:Public Webinar
ATTACH;FMTTYPE=image/png:https://circle.mindthegrad.com/wp-content/uploads/2024/06/6-keys-to-success-4.png
END:VEVENT
BEGIN:VEVENT
DTSTART;TZID=UTC:20240418T180000
DTEND;TZID=UTC:20240418T190000
DTSTAMP:20260424T001350
CREATED:20240413T103023Z
LAST-MODIFIED:20240413T103249Z
UID:2696-1713463200-1713466800@circle.mindthegrad.com
SUMMARY:Pass interviews in the UK (as an international student!)
DESCRIPTION:Hey\, GradCircle! ✈️ We invite you to the session\, during which Valeria will give feedback on your CV\, Cover Letters\, and LinkedIn during the Zoom call.… \n  \n  \n    Please upgrade to Premium Membership to view this content. \n\n\n  Login\n\n \nGo to your Account ==> Subscriptions ==> Change Plan to upgrade your membership. \n(the price will be prorated based on what you have already paid for Standard Membership).
URL:https://circle.mindthegrad.com/event/interview-webinar/
CATEGORIES:Public Webinar
ATTACH;FMTTYPE=image/png:https://circle.mindthegrad.com/wp-content/uploads/2024/04/13.png
END:VEVENT
END:VCALENDAR