BEGIN:VCALENDAR
VERSION:2.0
PRODID:-//Grad Circle - ECPv6.15.20//NONSGML v1.0//EN
CALSCALE:GREGORIAN
METHOD:PUBLISH
X-ORIGINAL-URL:https://circle.mindthegrad.com
X-WR-CALDESC:Events for Grad Circle
REFRESH-INTERVAL;VALUE=DURATION:PT1H
X-Robots-Tag:noindex
X-PUBLISHED-TTL:PT1H
BEGIN:VTIMEZONE
TZID:Europe/London
BEGIN:DAYLIGHT
TZOFFSETFROM:+0000
TZOFFSETTO:+0100
TZNAME:BST
DTSTART:20230326T010000
END:DAYLIGHT
BEGIN:STANDARD
TZOFFSETFROM:+0100
TZOFFSETTO:+0000
TZNAME:GMT
DTSTART:20231029T010000
END:STANDARD
BEGIN:DAYLIGHT
TZOFFSETFROM:+0000
TZOFFSETTO:+0100
TZNAME:BST
DTSTART:20240331T010000
END:DAYLIGHT
BEGIN:STANDARD
TZOFFSETFROM:+0100
TZOFFSETTO:+0000
TZNAME:GMT
DTSTART:20241027T010000
END:STANDARD
BEGIN:DAYLIGHT
TZOFFSETFROM:+0000
TZOFFSETTO:+0100
TZNAME:BST
DTSTART:20250330T010000
END:DAYLIGHT
BEGIN:STANDARD
TZOFFSETFROM:+0100
TZOFFSETTO:+0000
TZNAME:GMT
DTSTART:20251026T010000
END:STANDARD
END:VTIMEZONE
BEGIN:VEVENT
DTSTART;TZID=Europe/London:20240530T180000
DTEND;TZID=Europe/London:20240530T190000
DTSTAMP:20260424T031321
CREATED:20240413T182846Z
LAST-MODIFIED:20240413T182846Z
UID:2753-1717092000-1717095600@circle.mindthegrad.com
SUMMARY:May Bootcamp - Lecture: Networking & Visa Negotiations
DESCRIPTION:Hey\, GradCircle! ✈️ We are excited to share that we will have May Bootcamp inside GradCircle. We will have 9 Sessions\, 2 per week\, covering… \n  \n  \n    Please upgrade to Premium Membership to view this content. \n\n\n  Login\n\n \nGo to your Account ==> Subscriptions ==> Change Plan to upgrade your membership. \n(the price will be prorated based on what you have already paid for Standard Membership).
URL:https://circle.mindthegrad.com/event/30may/
LOCATION:Virtual\, Zoom
CATEGORIES:May Bootcamp
ATTACH;FMTTYPE=image/jpeg:https://circle.mindthegrad.com/wp-content/uploads/2024/04/pexels-anna-shvets-5324918-scaled.jpg
END:VEVENT
BEGIN:VEVENT
DTSTART;TZID=Europe/London:20240528T140000
DTEND;TZID=Europe/London:20240528T150000
DTSTAMP:20260424T031321
CREATED:20240413T182440Z
LAST-MODIFIED:20240413T183029Z
UID:2750-1716904800-1716908400@circle.mindthegrad.com
SUMMARY:May Bootcamp - Seminar: Group Interview Practice
DESCRIPTION:Hey\, GradCircle! ✈️ We are excited to share that we will have May Bootcamp inside GradCircle. We will have 9 Sessions\, 2 per week\, covering… \n  \n  \n    Please upgrade to Premium Membership to view this content. \n\n\n  Login\n\n \nGo to your Account ==> Subscriptions ==> Change Plan to upgrade your membership. \n(the price will be prorated based on what you have already paid for Standard Membership).
URL:https://circle.mindthegrad.com/event/28may/
LOCATION:Virtual\, Zoom
CATEGORIES:May Bootcamp
ATTACH;FMTTYPE=image/jpeg:https://circle.mindthegrad.com/wp-content/uploads/2024/04/pexels-anna-shvets-5324898-scaled.jpg
END:VEVENT
BEGIN:VEVENT
DTSTART;TZID=Europe/London:20240523T180000
DTEND;TZID=Europe/London:20240523T190000
DTSTAMP:20260424T031321
CREATED:20240413T181656Z
LAST-MODIFIED:20240413T182948Z
UID:2745-1716487200-1716490800@circle.mindthegrad.com
SUMMARY:May Bootcamp - Lecture: Interview Skills - Part 2
DESCRIPTION:Hey\, GradCircle! ✈️ We are excited to share that we will have May Bootcamp inside GradCircle. We will have 9 Sessions\, 2 per week\, covering… \n  \n  \n    Please upgrade to Premium Membership to view this content. \n\n\n  Login\n\n \nGo to your Account ==> Subscriptions ==> Change Plan to upgrade your membership. \n(the price will be prorated based on what you have already paid for Standard Membership).
URL:https://circle.mindthegrad.com/event/23may/
LOCATION:Virtual\, Zoom
CATEGORIES:May Bootcamp
ATTACH;FMTTYPE=image/jpeg:https://circle.mindthegrad.com/wp-content/uploads/2024/04/pexels-alexander-suhorucov-6457589-scaled.jpg
END:VEVENT
BEGIN:VEVENT
DTSTART;TZID=Europe/London:20240521T140000
DTEND;TZID=Europe/London:20240521T150000
DTSTAMP:20260424T031321
CREATED:20240413T181434Z
LAST-MODIFIED:20240413T183118Z
UID:2742-1716300000-1716303600@circle.mindthegrad.com
SUMMARY:May Bootcamp - Lecture: Interview Skills - Part 1
DESCRIPTION:Hey\, GradCircle! ✈️ We are excited to share that we will have May Bootcamp inside GradCircle. We will have 9 Sessions\, 2 per week\, covering… \n  \n  \n    Please upgrade to Premium Membership to view this content. \n\n\n  Login\n\n \nGo to your Account ==> Subscriptions ==> Change Plan to upgrade your membership. \n(the price will be prorated based on what you have already paid for Standard Membership).
URL:https://circle.mindthegrad.com/event/21may/
LOCATION:Virtual\, Zoom
CATEGORIES:May Bootcamp
ATTACH;FMTTYPE=image/jpeg:https://circle.mindthegrad.com/wp-content/uploads/2024/04/pexels-alexander-suhorucov-6457589-scaled.jpg
END:VEVENT
BEGIN:VEVENT
DTSTART;TZID=Europe/London:20240513T140000
DTEND;TZID=Europe/London:20240513T150000
DTSTAMP:20260424T031321
CREATED:20240413T180449Z
LAST-MODIFIED:20240502T204139Z
UID:2733-1715608800-1715612400@circle.mindthegrad.com
SUMMARY:May Bootcamp - Seminar: Your Candidate Profile
DESCRIPTION:Hey\, GradCircle! ✈️ We are excited to share that we will have May Bootcamp inside GradCircle. We will have 9 Sessions\, 2 per week\, covering… \n  \n  \n    Please upgrade to Premium Membership to view this content. \n\n\n  Login\n\n \nGo to your Account ==> Subscriptions ==> Change Plan to upgrade your membership. \n(the price will be prorated based on what you have already paid for Standard Membership).
URL:https://circle.mindthegrad.com/event/13may/
LOCATION:Virtual\, Zoom
CATEGORIES:May Bootcamp
ATTACH;FMTTYPE=image/jpeg:https://circle.mindthegrad.com/wp-content/uploads/2024/04/pexels-sora-shimazaki-5673466-scaled.jpg
END:VEVENT
BEGIN:VEVENT
DTSTART;TZID=Europe/London:20240509T180000
DTEND;TZID=Europe/London:20240509T190000
DTSTAMP:20260424T031321
CREATED:20240413T175908Z
LAST-MODIFIED:20240413T183240Z
UID:2730-1715277600-1715281200@circle.mindthegrad.com
SUMMARY:May Bootcamp - Lecture: Creating a Strong Candidate Profile
DESCRIPTION:Hey\, GradCircle! ✈️ We are excited to share that we will have May Bootcamp inside GradCircle. We will have 9 Sessions\, 2 per week\, covering… \n  \n  \n    Please upgrade to Premium Membership to view this content. \n\n\n  Login\n\n \nGo to your Account ==> Subscriptions ==> Change Plan to upgrade your membership. \n(the price will be prorated based on what you have already paid for Standard Membership).
URL:https://circle.mindthegrad.com/event/9may/
LOCATION:Virtual\, Zoom
CATEGORIES:May Bootcamp
ATTACH;FMTTYPE=image/jpeg:https://circle.mindthegrad.com/wp-content/uploads/2024/04/pexels-ketut-subiyanto-4350173-scaled.jpg
END:VEVENT
BEGIN:VEVENT
DTSTART;TZID=Europe/London:20240507T140000
DTEND;TZID=Europe/London:20240507T150000
DTSTAMP:20260424T031321
CREATED:20240413T175524Z
LAST-MODIFIED:20240413T183315Z
UID:2727-1715090400-1715094000@circle.mindthegrad.com
SUMMARY:May Bootcamp - Seminar: UK Job Search Strategy
DESCRIPTION:Hey\, GradCircle! ✈️ We are excited to share that we will have May Bootcamp inside GradCircle. We will have 9 Sessions\, 2 per week\, covering… \n  \n  \n    Please upgrade to Premium Membership to view this content. \n\n\n  Login\n\n \nGo to your Account ==> Subscriptions ==> Change Plan to upgrade your membership. \n(the price will be prorated based on what you have already paid for Standard Membership).
URL:https://circle.mindthegrad.com/event/7may/
LOCATION:Virtual\, Zoom
CATEGORIES:May Bootcamp
ATTACH;FMTTYPE=image/jpeg:https://circle.mindthegrad.com/wp-content/uploads/2024/04/pexels-anna-shvets-5324958-scaled.jpg
END:VEVENT
BEGIN:VEVENT
DTSTART;TZID=Europe/London:20240502T180000
DTEND;TZID=Europe/London:20240502T190000
DTSTAMP:20260424T031321
CREATED:20240413T174643Z
LAST-MODIFIED:20240413T183350Z
UID:2722-1714672800-1714676400@circle.mindthegrad.com
SUMMARY:May Bootcamp - Lecture: UK Job Search Strategy
DESCRIPTION:Hey\, GradCircle! ✈️ We are excited to share that we will have May Bootcamp inside GradCircle. We will have 9 Sessions\, 2 per week\, covering… \n  \n  \n    Please upgrade to Premium Membership to view this content. \n\n\n  Login\n\n \nGo to your Account ==> Subscriptions ==> Change Plan to upgrade your membership. \n(the price will be prorated based on what you have already paid for Standard Membership).
URL:https://circle.mindthegrad.com/event/2may/
LOCATION:Virtual\, Zoom
CATEGORIES:May Bootcamp
ATTACH;FMTTYPE=image/jpeg:https://circle.mindthegrad.com/wp-content/uploads/2024/04/pexels-karolina-grabowska-4491451-scaled.jpg
END:VEVENT
END:VCALENDAR