BEGIN:VCALENDAR
VERSION:2.0
PRODID:-//Grad Circle - ECPv6.15.20//NONSGML v1.0//EN
CALSCALE:GREGORIAN
METHOD:PUBLISH
X-ORIGINAL-URL:https://circle.mindthegrad.com
X-WR-CALDESC:Events for Grad Circle
REFRESH-INTERVAL;VALUE=DURATION:PT1H
X-Robots-Tag:noindex
X-PUBLISHED-TTL:PT1H
BEGIN:VTIMEZONE
TZID:Europe/Paris
BEGIN:DAYLIGHT
TZOFFSETFROM:+0100
TZOFFSETTO:+0200
TZNAME:CEST
DTSTART:20230326T010000
END:DAYLIGHT
BEGIN:STANDARD
TZOFFSETFROM:+0200
TZOFFSETTO:+0100
TZNAME:CET
DTSTART:20231029T010000
END:STANDARD
BEGIN:DAYLIGHT
TZOFFSETFROM:+0100
TZOFFSETTO:+0200
TZNAME:CEST
DTSTART:20240331T010000
END:DAYLIGHT
BEGIN:STANDARD
TZOFFSETFROM:+0200
TZOFFSETTO:+0100
TZNAME:CET
DTSTART:20241027T010000
END:STANDARD
BEGIN:DAYLIGHT
TZOFFSETFROM:+0100
TZOFFSETTO:+0200
TZNAME:CEST
DTSTART:20250330T010000
END:DAYLIGHT
BEGIN:STANDARD
TZOFFSETFROM:+0200
TZOFFSETTO:+0100
TZNAME:CET
DTSTART:20251026T010000
END:STANDARD
END:VTIMEZONE
BEGIN:VEVENT
DTSTART;TZID=Europe/Paris:20240612T200000
DTEND;TZID=Europe/Paris:20240612T210000
DTSTAMP:20260423T224935
CREATED:20240604T174656Z
LAST-MODIFIED:20240604T181648Z
UID:2880-1718222400-1718226000@circle.mindthegrad.com
SUMMARY:Free Webinar - 3 Steps to Negotiate your Visa Sponsorship in the UK
DESCRIPTION:Hey\, GradCircle! ✈️ We invite you to an interactive group session where we will practice interview skills in a small group. Valeria will explain how… \n  \n  \n    Please upgrade to Premium Membership to view this content. \n\n\n  Login\n\n \nGo to your Account ==> Subscriptions ==> Change Plan to upgrade your membership. \n(the price will be prorated based on what you have already paid for Standard Membership).
URL:https://circle.mindthegrad.com/event/visa-webinar/
CATEGORIES:Public Webinar
ATTACH;FMTTYPE=image/png:https://circle.mindthegrad.com/wp-content/uploads/2024/06/6-keys-to-success-4.png
END:VEVENT
END:VCALENDAR